BEGIN:VCALENDAR
VERSION:2.0
PRODID:-//Herkules - Pomiar Czasu - ECPv6.15.20//NONSGML v1.0//EN
CALSCALE:GREGORIAN
METHOD:PUBLISH
X-WR-CALNAME:Herkules - Pomiar Czasu
X-ORIGINAL-URL:https://herkules.org.pl
X-WR-CALDESC:Wydarzenia dla Herkules - Pomiar Czasu
REFRESH-INTERVAL;VALUE=DURATION:PT1H
X-Robots-Tag:noindex
X-PUBLISHED-TTL:PT1H
BEGIN:VTIMEZONE
TZID:Europe/Warsaw
BEGIN:DAYLIGHT
TZOFFSETFROM:+0100
TZOFFSETTO:+0200
TZNAME:CEST
DTSTART:20230326T010000
END:DAYLIGHT
BEGIN:STANDARD
TZOFFSETFROM:+0200
TZOFFSETTO:+0100
TZNAME:CET
DTSTART:20231029T010000
END:STANDARD
BEGIN:DAYLIGHT
TZOFFSETFROM:+0100
TZOFFSETTO:+0200
TZNAME:CEST
DTSTART:20240331T010000
END:DAYLIGHT
BEGIN:STANDARD
TZOFFSETFROM:+0200
TZOFFSETTO:+0100
TZNAME:CET
DTSTART:20241027T010000
END:STANDARD
BEGIN:DAYLIGHT
TZOFFSETFROM:+0100
TZOFFSETTO:+0200
TZNAME:CEST
DTSTART:20250330T010000
END:DAYLIGHT
BEGIN:STANDARD
TZOFFSETFROM:+0200
TZOFFSETTO:+0100
TZNAME:CET
DTSTART:20251026T010000
END:STANDARD
BEGIN:DAYLIGHT
TZOFFSETFROM:+0100
TZOFFSETTO:+0200
TZNAME:CEST
DTSTART:20260329T010000
END:DAYLIGHT
BEGIN:STANDARD
TZOFFSETFROM:+0200
TZOFFSETTO:+0100
TZNAME:CET
DTSTART:20261025T010000
END:STANDARD
BEGIN:DAYLIGHT
TZOFFSETFROM:+0100
TZOFFSETTO:+0200
TZNAME:CEST
DTSTART:20270328T010000
END:DAYLIGHT
BEGIN:STANDARD
TZOFFSETFROM:+0200
TZOFFSETTO:+0100
TZNAME:CET
DTSTART:20271031T010000
END:STANDARD
END:VTIMEZONE
BEGIN:VEVENT
DTSTART;TZID=Europe/Warsaw:20260321T114000
DTEND;TZID=Europe/Warsaw:20260321T150000
DTSTAMP:20260421T104111
CREATED:20251122T182758Z
LAST-MODIFIED:20251209T103417Z
UID:3687-1774093200-1774105200@herkules.org.pl
SUMMARY:Kołobrzeska 15-stka Zaślubin
DESCRIPTION:
URL:https://herkules.org.pl/events/kolobrzeska-15-stka-zaslubin-2/
LOCATION:Kołobrzeg\, ul. Rodziewiczówny – Sanatorium IKAR\, ul. Rodziewiczówny - Sanatorium IKAR\, Kołobrzeg\, Zachodniopomorskie\, Poland
CATEGORIES:Bieganie
END:VEVENT
BEGIN:VEVENT
DTSTART;TZID=Europe/Warsaw:20260301T120000
DTEND;TZID=Europe/Warsaw:20260301T170000
DTSTAMP:20260421T104111
CREATED:20260105T131908Z
LAST-MODIFIED:20260105T132125Z
UID:3708-1772366400-1772384400@herkules.org.pl
SUMMARY:Tropem Wilczym - Police  Bieg Pamięci Żołnierzy Wyklętych
DESCRIPTION:
URL:https://herkules.org.pl/events/tropem-wilczym-police-bieg-pamieci-zolnierzy-wykletych/
LOCATION:fabryki benzyny syntetycznej Hydrierwerke Pölitz AG\, Licealna\, Police\, Zachodniopomorskie\, 72-010\, Poland
CATEGORIES:Bieganie
ORGANIZER;CN="Fundacja Aktywne Police":MAILTO:tropemwilczympolice@gmail.com
END:VEVENT
BEGIN:VEVENT
DTSTART;TZID=Europe/Warsaw:20251206T110000
DTEND;TZID=Europe/Warsaw:20251206T160000
DTSTAMP:20260421T104111
CREATED:20251019T192817Z
LAST-MODIFIED:20251019T192817Z
UID:3669-1765018800-1765036800@herkules.org.pl
SUMMARY:X Mikołajkowy Kross Górski z Komandorkiem
DESCRIPTION:
URL:https://herkules.org.pl/events/x-mikolajkowy-kross-gorski-z-komandorkiem/
LOCATION:Stadion 650-lecia w Słupsku\, ul. Madalińskiego.\, ul Madalińskiego\, Słupsk\, Pomorskie\, 76-200\, Poland
ORGANIZER;CN="Fundacja Wspierania Inicjatyw Niekonwencjonalnych %E2%80%9ESub ventum%E2%80%9D":MAILTO:darek_klos@op.pl
END:VEVENT
BEGIN:VEVENT
DTSTART;TZID=Europe/Warsaw:20251111T123000
DTEND;TZID=Europe/Warsaw:20251111T170000
DTSTAMP:20260421T104111
CREATED:20251019T192411Z
LAST-MODIFIED:20251019T192411Z
UID:3667-1762864200-1762880400@herkules.org.pl
SUMMARY:XIII Słupski Bieg Niepodległości
DESCRIPTION:
URL:https://herkules.org.pl/events/xiii-slupski-bieg-niepodleglosci/
LOCATION:Słupsk\, ul Szarych Szeregów\, Szarych Szeregów\, Słupsk\, Pomorskie\, 76-200
END:VEVENT
BEGIN:VEVENT
DTSTART;TZID=Europe/Warsaw:20251004T110000
DTEND;TZID=Europe/Warsaw:20251004T170000
DTSTAMP:20260421T104111
CREATED:20241023T165931Z
LAST-MODIFIED:20250403T143806Z
UID:3451-1759575600-1759597200@herkules.org.pl
SUMMARY:XIII CROSS CENTAURA
DESCRIPTION:
URL:https://herkules.org.pl/events/xiii-cross-centaura/
LOCATION:Biały Bór\, Plaża Miejska\, Sądowa 36\, Biały Bór\, Zachodniopomorskie\, Poland
CATEGORIES:Bieganie
END:VEVENT
BEGIN:VEVENT
DTSTART;TZID=Europe/Warsaw:20250921T110000
DTEND;TZID=Europe/Warsaw:20250921T140000
DTSTAMP:20260421T104111
CREATED:20250616T125044Z
LAST-MODIFIED:20250616T125044Z
UID:3618-1758452400-1758463200@herkules.org.pl
SUMMARY:X BIEG PRZEŁAJOWY im. st. chor. szt. mar. Tadeusza KLOSKOWSKIEGO
DESCRIPTION:
URL:https://herkules.org.pl/events/x-bieg-przelajowy-im-st-chor-szt-mar-tadeusza-kloskowskiego/
LOCATION:Stadion 650-lecia w Słupsku\, ul. Madalińskiego.\, ul Madalińskiego\, Słupsk\, Pomorskie\, 76-200\, Poland
ORGANIZER;CN="Fundacja Wspierania Inicjatyw Niekonwencjonalnych %E2%80%9ESub ventum%E2%80%9D":MAILTO:darek_klos@op.pl
END:VEVENT
BEGIN:VEVENT
DTSTART;TZID=Europe/Warsaw:20250830T110000
DTEND;TZID=Europe/Warsaw:20250830T170000
DTSTAMP:20260421T104111
CREATED:20241023T165758Z
LAST-MODIFIED:20241023T165758Z
UID:3449-1756551600-1756573200@herkules.org.pl
SUMMARY:XI CROSS NA WRZOSACH
DESCRIPTION:
URL:https://herkules.org.pl/events/xi-cross-na-wrzosach/
LOCATION:Wrzosowiska Okonek\, Rezerwat Przyrody Wrzosowiska\, Okonek\, Zachodniopomorskie\, 64-965\, Poland
CATEGORIES:Bieganie
END:VEVENT
BEGIN:VEVENT
DTSTART;TZID=Europe/Warsaw:20250810T090000
DTEND;TZID=Europe/Warsaw:20250810T170000
DTSTAMP:20260421T104111
CREATED:20250310T204428Z
LAST-MODIFIED:20250517T123044Z
UID:3520-1754816400-1754845200@herkules.org.pl
SUMMARY:Bieg Wolności
DESCRIPTION:
URL:https://herkules.org.pl/events/bieg-wolnosci-2/
LOCATION:Pole Piknikowe w Jastrowiu\, Wojska Polskiego 90\, Jastrowie\, 6692523621\, 64-915\, Poland
CATEGORIES:Bieganie,MTB,Nordic Walking
END:VEVENT
BEGIN:VEVENT
DTSTART;TZID=Europe/Warsaw:20250618T183000
DTEND;TZID=Europe/Warsaw:20250618T203000
DTSTAMP:20260421T104111
CREATED:20250311T211523Z
LAST-MODIFIED:20250311T211523Z
UID:3525-1750271400-1750278600@herkules.org.pl
SUMMARY:IX Otwarte Mistrzostwa Koszalina - 5 000 m
DESCRIPTION:
URL:https://herkules.org.pl/events/ix-otwarte-mistrzostwa-koszalina-5-000-m/
LOCATION:Stadion LA w Koszalin\, Andersa 16\, Koszalin\, Zachodniopomorskie\, 75-401\, Poland
CATEGORIES:Bieganie
ORGANIZER;CN="Koszali%C5%84skie Towarzystwo Krzewienia Kultury Fizycznej":MAILTO:ktkkf@wp.pl
END:VEVENT
BEGIN:VEVENT
DTSTART;TZID=Europe/Warsaw:20250608T120000
DTEND;TZID=Europe/Warsaw:20250608T170000
DTSTAMP:20260421T104111
CREATED:20250103T154736Z
LAST-MODIFIED:20250224T080250Z
UID:3485-1749384000-1749402000@herkules.org.pl
SUMMARY:IX Drawski Bieg Przełajowy im. Jana Bułczyńskiego
DESCRIPTION:
URL:https://herkules.org.pl/events/ix-drawski-bieg-przelajowy-im-jana-bulczynskiego/
LOCATION:Stadion Miejski Drawsko Pomorskie\, Okrzei 1\, Drawsko Pomorskie\, Zachodniopomorskie\, Poland
CATEGORIES:Bieganie,Nordic Walking
END:VEVENT
BEGIN:VEVENT
DTSTART;TZID=Europe/Warsaw:20250531T100000
DTEND;TZID=Europe/Warsaw:20250531T200000
DTSTAMP:20260421T104111
CREATED:20250310T213816Z
LAST-MODIFIED:20250428T114338Z
UID:3523-1748685600-1748721600@herkules.org.pl
SUMMARY:XXIII Bieg Wenedów
DESCRIPTION:
URL:https://herkules.org.pl/events/xxiii-bieg-wenedow/
LOCATION:Koszalin\, ul. Śniadeckich 4\, Hala Widowiskowo – Sportowa\, Koszalin\, ul. Śniadeckich 4\, Hala Widowiskowo - Sportowa\, Koszalin\, Zachodniopomorskie\, 75-453\, Poland
CATEGORIES:Bieganie
ORGANIZER;CN="Koszali%C5%84skie Towarzystwo Krzewienia Kultury Fizycznej":MAILTO:ktkkf@wp.pl
END:VEVENT
BEGIN:VEVENT
DTSTART;TZID=Europe/Warsaw:20250518T110000
DTEND;TZID=Europe/Warsaw:20250518T170000
DTSTAMP:20260421T104111
CREATED:20241016T155529Z
LAST-MODIFIED:20241122T165844Z
UID:3437-1747566000-1747587600@herkules.org.pl
SUMMARY:II Kołobrzeski Półmaraton Brzegiem Bałtyku
DESCRIPTION:
URL:https://herkules.org.pl/events/ii-kolobrzeski-polmaraton-brzegiem-baltyku/
LOCATION:Kołobrzeg\, ul. Sikorskiego\, ul. Sikorskiego 1\, Kołobrzeg\, Zachodniopomorskie\, 78-100\, Poland
CATEGORIES:Bieganie
ORGANIZER;CN="Ko%C5%82obrzeskie Stowarzyszenie Bieg%C3%B3w Ulicznych %E2%80%9ENadmorscy Biegacze%E2%80%9D":MAILTO:nadmorscybiegacze@gmail.com
END:VEVENT
BEGIN:VEVENT
DTSTART;TZID=Europe/Warsaw:20250517T120000
DTEND;TZID=Europe/Warsaw:20250517T170000
DTSTAMP:20260421T104111
CREATED:20241203T201841Z
LAST-MODIFIED:20241203T201841Z
UID:3478-1747483200-1747501200@herkules.org.pl
SUMMARY:11. Ćwierćmaraton Komandosa
DESCRIPTION:
URL:https://herkules.org.pl/events/11-cwiercmaraton-komandosa/
LOCATION:Stadion 650-lecia w Słupsku\, ul. Madalińskiego 4\, Słupsk\, Zachodniopomorskie\, Poland
CATEGORIES:Bieganie
ORGANIZER;CN="Fundacja Wspierania Inicjatyw Niekonwencjonalnych %E2%80%9ESub ventum%E2%80%9D":MAILTO:darek_klos@op.pl
END:VEVENT
BEGIN:VEVENT
DTSTART;TZID=Europe/Warsaw:20250426T120000
DTEND;TZID=Europe/Warsaw:20250426T170000
DTSTAMP:20260421T104111
CREATED:20250224T075724Z
LAST-MODIFIED:20250224T075724Z
UID:3513-1745668800-1745686800@herkules.org.pl
SUMMARY:Bieg dla Asi
DESCRIPTION:
URL:https://herkules.org.pl/events/bieg-dla-asi/
LOCATION:Sławsko Szkoła Podstawowa\, Sławko 97\, Sławsko\, Zachodniopomorskie\, 76-100\, Poland
CATEGORIES:Bieganie,Nordic Walking
END:VEVENT
BEGIN:VEVENT
DTSTART;TZID=Europe/Warsaw:20250412T110000
DTEND;TZID=Europe/Warsaw:20250412T150000
DTSTAMP:20260421T104111
CREATED:20241011T101821Z
LAST-MODIFIED:20241122T170010Z
UID:3425-1744455600-1744470000@herkules.org.pl
SUMMARY:XVI Koszaliński Bieg Górski\, II Górskie Mistrzostwa Polski Masters w Stylu Anglosaskim
DESCRIPTION:XVI KOSZALIŃSKI BIEG GÓRSKI – 10 km i 5km \nUwaga !!! Wszyscy zawodnicy sklasyfikowani w biegu są również sklasyfikowani w \nMISTRZOSTWA POLSKI MASTERS W BIEGU GÓRSKIM W STYLU ANGLOSASKIM \nKategorie Masters – 10 km (35 – 59 lat K i M)  i 5km (60+ K i M )
URL:https://herkules.org.pl/events/xvi-koszalinski-bieg-gorski-ii-gorskie-mistrzostwa-polski-masters-w-stylu-anglosaskim/
LOCATION:Koszalin\, ul. Rekreacyjna\, ul. Rekreacyjna\, Koszalin\, Zachodniopomorskie\, 75-401\, Poland
CATEGORIES:Bieganie
ATTACH;FMTTYPE=image/png:https://herkules.org.pl/wp-content/uploads/2024/10/Koszalin.png
ORGANIZER;CN="Koszali%C5%84skie Towarzystwo Krzewienia Kultury Fizycznej":MAILTO:ktkkf@wp.pl
END:VEVENT
BEGIN:VEVENT
DTSTART;TZID=Europe/Warsaw:20250405T133000
DTEND;TZID=Europe/Warsaw:20250405T170000
DTSTAMP:20260421T104111
CREATED:20250108T095200Z
LAST-MODIFIED:20250108T095200Z
UID:3489-1743859800-1743872400@herkules.org.pl
SUMMARY:I PRUDNICKI BIEG GÓRSKI
DESCRIPTION:
URL:https://herkules.org.pl/events/i-prudnicki-bieg-gorski/
LOCATION:Prudnik – Las (Sanktuarium św. Józefa ul. Józefa Poniatowskiego 5\, 48-200 Prudnik\, Sanktuarium św. Józefa ul. Józefa Poniatowskiego 5\, Prudnik\, Dolnośląskie\, 48-200 Prudnik\, Poland
CATEGORIES:Bieganie,Nordic Walking
ORGANIZER;CN="Stowarzyszenie Weso%C5%82y Borsuk Team":MAILTO:swbt@wp.pl
END:VEVENT
BEGIN:VEVENT
DTSTART;TZID=Europe/Warsaw:20250316T113000
DTEND;TZID=Europe/Warsaw:20250316T170000
DTSTAMP:20260421T104111
CREATED:20241122T164912Z
LAST-MODIFIED:20241122T164912Z
UID:3464-1742124600-1742144400@herkules.org.pl
SUMMARY:Kołobrzeska 15-stka Zaślubin
DESCRIPTION:Bieg na dystansie 15km\, trasa posiada atest PZLA. Składa się z 3 Pętle : 2 duże – 6\,40877km oraz 1 mała –. 2\,18246 km .
URL:https://herkules.org.pl/events/kolobrzeska-15-stka-zaslubin/
LOCATION:Kołobrzeg\, ul. Rodziewiczówny – Sanatorium IKAR\, ul. Rodziewiczówny - Sanatorium IKAR\, Kołobrzeg\, Zachodniopomorskie\, Poland
CATEGORIES:Bieganie
ORGANIZER;CN="Miejski O%C5%9Brodek Sportu i Rekreacji w Ko%C5%82obrzegu":MAILTO:bieg@mosir.kolobrzeg.pl
END:VEVENT
BEGIN:VEVENT
DTSTART;TZID=Europe/Warsaw:20250309T100000
DTEND;TZID=Europe/Warsaw:20250309T140000
DTSTAMP:20260421T104111
CREATED:20250116T095700Z
LAST-MODIFIED:20250116T095700Z
UID:3505-1741514400-1741528800@herkules.org.pl
SUMMARY:XV Bieg Charytatywny im. chor. Kazimierza Masiowskiego
DESCRIPTION:
URL:https://herkules.org.pl/events/xv-bieg-charytatywny-im-chor-kazimierza-masiowskiego/
LOCATION:Siemczyno\, Siemczyno 40A\, Siemczyno\, Zachodniopomorskie\, 78-551\, Poland
CATEGORIES:Bieganie
ORGANIZER;CN="Stowarzyszenie Sportowe Grupa Biegowa Rundorfina":MAILTO:+48 694 118 966
END:VEVENT
BEGIN:VEVENT
DTSTART;TZID=Europe/Warsaw:20250302T113000
DTEND;TZID=Europe/Warsaw:20250302T140000
DTSTAMP:20260421T104111
CREATED:20241122T165743Z
LAST-MODIFIED:20241122T165743Z
UID:3467-1740915000-1740924000@herkules.org.pl
SUMMARY:Tropem Wilczym. Bieg Pamięci Żołnierzy Wyklętych
DESCRIPTION:
URL:https://herkules.org.pl/events/tropem-wilczym-bieg-pamieci-zolnierzy-wykletych/
LOCATION:Borzytuchom\, Szkolna 1\, Borzytuchom\, Pomorskie\, 77-141\, Poland
CATEGORIES:Bieganie
END:VEVENT
BEGIN:VEVENT
DTSTART;TZID=Europe/Warsaw:20250301T120000
DTEND;TZID=Europe/Warsaw:20250301T150000
DTSTAMP:20260421T104111
CREATED:20250103T111512Z
LAST-MODIFIED:20250103T111512Z
UID:3481-1740830400-1740841200@herkules.org.pl
SUMMARY:FIVE SEASIDE / Kołobrzeski bieg na 5km
DESCRIPTION:
URL:https://herkules.org.pl/events/five-seaside-kolobrzeski-bieg-na-5km/
LOCATION:Seaside Park Hotel Kołobrzeg\, Wschodnia 20\, Kołobrzeg\, Zachodniopomorskie\, Poland
CATEGORIES:Bieganie
END:VEVENT
BEGIN:VEVENT
DTSTART;TZID=Europe/Warsaw:20241207T110000
DTEND;TZID=Europe/Warsaw:20241207T110000
DTSTAMP:20260421T104111
CREATED:20241016T162456Z
LAST-MODIFIED:20241016T162606Z
UID:3440-1733569200-1733569200@herkules.org.pl
SUMMARY:IX Mikołajkowy Kross Górski z Komandorkiem
DESCRIPTION:Data: 7 grudnia 2024 r.\, \nMiejsce: Słupsk\, Stadion 650-lecia w Słupsku\, ul. Madalińskiego\, \nLimit zawodników (łącznie z NW) 150 osób.
URL:https://herkules.org.pl/events/ix-mikolajkowy-kross-gorski-z-komandorkiem/
LOCATION:Stadion 650-lecia w Słupsku\, ul. Madalińskiego.\, ul Madalińskiego\, Słupsk\, Pomorskie\, 76-200\, Poland
CATEGORIES:Bieganie,Nordic Walking
ORGANIZER;CN="Fundacja Wspierania Inicjatyw Niekonwencjonalnych %E2%80%9ESub ventum%E2%80%9D":MAILTO:darek_klos@op.pl
END:VEVENT
BEGIN:VEVENT
DTSTART;TZID=Europe/Warsaw:20241123T110000
DTEND;TZID=Europe/Warsaw:20241123T170000
DTSTAMP:20260421T104111
CREATED:20241107T204357Z
LAST-MODIFIED:20241107T204357Z
UID:3460-1732359600-1732381200@herkules.org.pl
SUMMARY:53 BIEG Z OKAZJI DNIA PODCHORĄŻEGO
DESCRIPTION:PROGRAM CZASOWY BIEGU PODCHORĄŻEGO: \n\n  9:00  – 10:45 – zapisy do biegu – namiot (plac apelowy)\n10:45 – 11:00 – wspólna rozgrzewka\n11:00 – start do biegu na dystansie ok. 5000 metrów\n12:00 – oficjalne zakończenie zawodów
URL:https://herkules.org.pl/events/53-bieg-z-okazji-dnia-podchorazego/
LOCATION:Akademia Wojsk Lądowych we Wrocławiu\, Piotra Czajkowskiego 109\, Wrocław\, Dolnośląskie\, 51-147 Wrocław\, Poland
CATEGORIES:Bieganie
END:VEVENT
BEGIN:VEVENT
DTSTART;TZID=Europe/Warsaw:20241116T110000
DTEND;TZID=Europe/Warsaw:20241116T140000
DTSTAMP:20260421T104111
CREATED:20241020T134119Z
LAST-MODIFIED:20241020T134119Z
UID:3444-1731754800-1731765600@herkules.org.pl
SUMMARY:I ZMECHOLSKA TRZYNASTKA
DESCRIPTION:Zawody odbędą się 16 listopada 2024 r. Miejsce: Rakowa 1\, 55-114 Kryniczno\, stadnina koni Akademii Wojsk Lądowych.
URL:https://herkules.org.pl/events/i-zmecholska-trzynastka/
LOCATION:Stadnina koni Akademii Wojsk Lądowych.\, Rakowa 1\, Kryniczno\, Dolnośląskie\, 55-114\, Poland
CATEGORIES:Bieganie
END:VEVENT
BEGIN:VEVENT
DTSTART;TZID=Europe/Warsaw:20241111T120000
DTEND;TZID=Europe/Warsaw:20241111T160000
DTSTAMP:20260421T104111
CREATED:20241011T100558Z
LAST-MODIFIED:20241011T132554Z
UID:3419-1731326400-1731340800@herkules.org.pl
SUMMARY:XII Słupski Bieg Niepodległości
DESCRIPTION:Termin: 11 listopada 2024 r. start godzina 12:00\, limit czasowy: 1 h 20 minut. \nMiejsce startu: ul. Szarych Szeregów Rodzaj trasy: trasa płaska\, poprowadzona chodnikami pieszymi oraz ulicami miasta Słupska: Sądowa\, Partyzantów\, Zamkowa\, Rynek Rybacki\, Dominikańska\, Mostnika\, Łukasiewicza\, Filmowa\, Jedności Narodowej\, Wojska Polskiego\, Sienkiewicza\, Grodzka\, Kowalska\, Francesco Nullo\, Kilińskiego.
URL:https://herkules.org.pl/events/xii-slupski-bieg-niepodleglosci/
LOCATION:Słupsk\, ul Szarych Szeregów\, Szarych Szeregów\, Słupsk\, Pomorskie\, 76-200
CATEGORIES:Bieganie
ATTACH;FMTTYPE=image/png:https://herkules.org.pl/wp-content/uploads/2024/10/sosir_tlo-1.png
END:VEVENT
BEGIN:VEVENT
DTSTART;TZID=Europe/Warsaw:20241111T120000
DTEND;TZID=Europe/Warsaw:20241111T140000
DTSTAMP:20260421T104111
CREATED:20241027T102802Z
LAST-MODIFIED:20241027T102802Z
UID:3454-1731326400-1731333600@herkules.org.pl
SUMMARY:III DRAWSKI BIEG NIEPODLEGŁOŚCI  – biegamy dla Agatki
DESCRIPTION:Termin i miejsce:  \n\nBieg odbędzie się w dniu 11.11.2024 r. (Poniedziałek)\, w Drawsku Pomorskim.\nGodzina startu: 12:00\n\nStart i Meta: Drawsko Pomorskie Park Chopina – plac przy orliku
URL:https://herkules.org.pl/events/iii-drawski-bieg-niepodleglosci-biegamy-dla-agatki/
LOCATION:Drawsko Pomorskie Park Chopina – plac przy orliku\, Park Chopina\, Drawsko Pomorskie\, Zachodniopomorskie\, Poland
END:VEVENT
BEGIN:VEVENT
DTSTART;TZID=Europe/Warsaw:20241110T090000
DTEND;TZID=Europe/Warsaw:20241110T150000
DTSTAMP:20260421T104111
CREATED:20241001T104112Z
LAST-MODIFIED:20241001T104203Z
UID:3414-1731229200-1731250800@herkules.org.pl
SUMMARY:BIEG ORAZ WYŚCIG MTB NIEPODLEGŁOŚCI
DESCRIPTION:Impreza odbędzie się dnia 10.11.2024 r. w Jastrowiu. Start i meta – Punkt widokowy w Jastrowiu (koło hali sportowej przy ulicy Kilńszczaków)\,
URL:https://herkules.org.pl/events/bieg-oraz-wyscig-mtb-niepodleglosci/
LOCATION:Punkt widokowy w Jastrowiu\, Kilńszczaków\, Jastrowie\, Wielkopolskie\, 64-915\, Poland
CATEGORIES:Bieganie,MTB
END:VEVENT
BEGIN:VEVENT
DTSTART;TZID=Europe/Warsaw:20241005T120000
DTEND;TZID=Europe/Warsaw:20241005T170000
DTSTAMP:20260421T104111
CREATED:20240526T093627Z
LAST-MODIFIED:20240526T093627Z
UID:3316-1728129600-1728147600@herkules.org.pl
SUMMARY:Pogoń Raka
DESCRIPTION:Zawody odbędą się w dniu 5 października 2024 r. w miejscowości Szczecin\, woj. Zachodniopomorskie. \nSTART i META biegu: Polana Sportowa (przy osiedlu Głębokie – ul. Siedmiu Młynów) \nSTART GŁÓWNY godzinie 12:00 (dystans 5km – w biegu przełajowym).
URL:https://herkules.org.pl/events/pogon-raka/
LOCATION:Polana sportowa\, ul. Siedmiu Młynów\, Szczecin\, Zachodniopomorskie\, Poland
CATEGORIES:Bieganie
ATTACH;FMTTYPE=image/png:https://herkules.org.pl/wp-content/uploads/2024/05/logo-8edycji.png
ORGANIZER;CN="Stowarzyszenie Walki z Rakiem P%C5%82uca Oddzia%C5%82 Szczecin":MAILTO:kbdzik@gmail.com
END:VEVENT
BEGIN:VEVENT
DTSTART;TZID=Europe/Warsaw:20241005T110000
DTEND;TZID=Europe/Warsaw:20241005T110000
DTSTAMP:20260421T104111
CREATED:20240603T134653Z
LAST-MODIFIED:20240603T135002Z
UID:3336-1728126000-1728126000@herkules.org.pl
SUMMARY:CHARYTATYWNY BIEG “POLIGON na START”
DESCRIPTION:Bieg odbędzie się w dniu 5 października 2024 roku (sobota) na terenie Centrum Szkolenia Bojowego Drawsko (poligon drawski) na dwóch dystansach: „Tajemniczy Zły Łęg” 20+ oraz „Dolina Romana”10+
URL:https://herkules.org.pl/events/charytatywny-bieg-poligon-na-start/
LOCATION:CSB Drawsko\, Centrum Szkolenia Bojowego Drawsko\, Drawsko Pomorskie\, Zachodniopomorskie\, 78-500\, Poland
CATEGORIES:Bieganie
ORGANIZER;CN="WKS Poligon Drawski":MAILTO:grzegorzskurczynski@interia.pl
END:VEVENT
BEGIN:VEVENT
DTSTART;TZID=Europe/Warsaw:20240929T093000
DTEND;TZID=Europe/Warsaw:20240929T140000
DTSTAMP:20260421T104111
CREATED:20240520T172554Z
LAST-MODIFIED:20240520T172954Z
UID:3312-1727602200-1727618400@herkules.org.pl
SUMMARY:I Dzika Piątka - bieg przełajowy
DESCRIPTION:Bieg odbędzie się 29 września 2024 r. (niedziela) o godz.9.30 w Debrznie na terenie Ośrodka Rekreacyjno – Wypoczynkowego nad Jeziorem Żuczek\, na trasie o długości 5\,5 km wyznaczonej przez organizatora.
URL:https://herkules.org.pl/events/bieg-przelajowy-i-dzika-piatka/
LOCATION:Ośrodek Rekreacyjno-Wypoczynkowy nad Jeziorem Żuczek\, Spacerowa 1\, Debrzno\, Pomorskie\, 77-310
CATEGORIES:Bieganie
ATTACH;FMTTYPE=image/jpeg:https://herkules.org.pl/wp-content/uploads/2024/04/200x80_mtb24v2.jpg
END:VEVENT
BEGIN:VEVENT
DTSTART;TZID=Europe/Warsaw:20240922T113000
DTEND;TZID=Europe/Warsaw:20240922T150000
DTSTAMP:20260421T104111
CREATED:20240810T111247Z
LAST-MODIFIED:20240816T145450Z
UID:3405-1727004600-1727017200@herkules.org.pl
SUMMARY:VIII Sosnowicki Rajd na Sześciu Łapach
DESCRIPTION:9:00 – 11:00 rejestracja i odprawa uczestników;\n11:00 Otwarcie Rajdu\n11:30 Starty zawodników;\n12:30 – 13:30 integracja\, ognisko\, catering\, gry dla dzieci\, stoiska charytatywne i partnerskie\n13.30 – 14.30 wręczenie nagród\, zakończenie zawodów.
URL:https://herkules.org.pl/events/viii-sosnowicki-rajd-na-szesciu-lapach/
LOCATION:Schronisko dla Bezdomnych Zwierząt Sosnowice\, Sosnowice\, Sosnowice\, Zachodniopomorskie\, 72-401\, Poland
CATEGORIES:Bieganie
ORGANIZER;CN="Komunalne Schronisko dla Bezdomnych Zwierz%C4%85t w Sosnowicach":MAILTO:schronisko@golczewo.pl
END:VEVENT
END:VCALENDAR