BEGIN:VCALENDAR
VERSION:2.0
PRODID:-//Herkules - Pomiar Czasu - ECPv6.15.20//NONSGML v1.0//EN
CALSCALE:GREGORIAN
METHOD:PUBLISH
X-WR-CALNAME:Herkules - Pomiar Czasu
X-ORIGINAL-URL:https://herkules.org.pl
X-WR-CALDESC:Wydarzenia dla Herkules - Pomiar Czasu
REFRESH-INTERVAL;VALUE=DURATION:PT1H
X-Robots-Tag:noindex
X-PUBLISHED-TTL:PT1H
BEGIN:VTIMEZONE
TZID:Europe/Warsaw
BEGIN:DAYLIGHT
TZOFFSETFROM:+0100
TZOFFSETTO:+0200
TZNAME:CEST
DTSTART:20230326T010000
END:DAYLIGHT
BEGIN:STANDARD
TZOFFSETFROM:+0200
TZOFFSETTO:+0100
TZNAME:CET
DTSTART:20231029T010000
END:STANDARD
BEGIN:DAYLIGHT
TZOFFSETFROM:+0100
TZOFFSETTO:+0200
TZNAME:CEST
DTSTART:20240331T010000
END:DAYLIGHT
BEGIN:STANDARD
TZOFFSETFROM:+0200
TZOFFSETTO:+0100
TZNAME:CET
DTSTART:20241027T010000
END:STANDARD
BEGIN:DAYLIGHT
TZOFFSETFROM:+0100
TZOFFSETTO:+0200
TZNAME:CEST
DTSTART:20250330T010000
END:DAYLIGHT
BEGIN:STANDARD
TZOFFSETFROM:+0200
TZOFFSETTO:+0100
TZNAME:CET
DTSTART:20251026T010000
END:STANDARD
BEGIN:DAYLIGHT
TZOFFSETFROM:+0100
TZOFFSETTO:+0200
TZNAME:CEST
DTSTART:20260329T010000
END:DAYLIGHT
BEGIN:STANDARD
TZOFFSETFROM:+0200
TZOFFSETTO:+0100
TZNAME:CET
DTSTART:20261025T010000
END:STANDARD
END:VTIMEZONE
BEGIN:VEVENT
DTSTART;TZID=Europe/Warsaw:20250316T113000
DTEND;TZID=Europe/Warsaw:20250316T170000
DTSTAMP:20260421T104138
CREATED:20241122T164912Z
LAST-MODIFIED:20241122T164912Z
UID:3464-1742124600-1742144400@herkules.org.pl
SUMMARY:Kołobrzeska 15-stka Zaślubin
DESCRIPTION:Bieg na dystansie 15km\, trasa posiada atest PZLA. Składa się z 3 Pętle : 2 duże – 6\,40877km oraz 1 mała –. 2\,18246 km .
URL:https://herkules.org.pl/events/kolobrzeska-15-stka-zaslubin/
LOCATION:Kołobrzeg\, ul. Rodziewiczówny – Sanatorium IKAR\, ul. Rodziewiczówny - Sanatorium IKAR\, Kołobrzeg\, Zachodniopomorskie\, Poland
CATEGORIES:Bieganie
ORGANIZER;CN="Miejski O%C5%9Brodek Sportu i Rekreacji w Ko%C5%82obrzegu":MAILTO:bieg@mosir.kolobrzeg.pl
END:VEVENT
BEGIN:VEVENT
DTSTART;TZID=Europe/Warsaw:20241207T110000
DTEND;TZID=Europe/Warsaw:20241207T110000
DTSTAMP:20260421T104138
CREATED:20241016T162456Z
LAST-MODIFIED:20241016T162606Z
UID:3440-1733569200-1733569200@herkules.org.pl
SUMMARY:IX Mikołajkowy Kross Górski z Komandorkiem
DESCRIPTION:Data: 7 grudnia 2024 r.\, \nMiejsce: Słupsk\, Stadion 650-lecia w Słupsku\, ul. Madalińskiego\, \nLimit zawodników (łącznie z NW) 150 osób.
URL:https://herkules.org.pl/events/ix-mikolajkowy-kross-gorski-z-komandorkiem/
LOCATION:Stadion 650-lecia w Słupsku\, ul. Madalińskiego.\, ul Madalińskiego\, Słupsk\, Pomorskie\, 76-200\, Poland
CATEGORIES:Bieganie,Nordic Walking
ORGANIZER;CN="Fundacja Wspierania Inicjatyw Niekonwencjonalnych %E2%80%9ESub ventum%E2%80%9D":MAILTO:darek_klos@op.pl
END:VEVENT
BEGIN:VEVENT
DTSTART;TZID=Europe/Warsaw:20240519T110000
DTEND;TZID=Europe/Warsaw:20240519T150000
DTSTAMP:20260421T104138
CREATED:20240228T151253Z
LAST-MODIFIED:20240228T151253Z
UID:3252-1716116400-1716130800@herkules.org.pl
SUMMARY:I Kołobrzeski Półmaraton Brzegiem Bałtyku
DESCRIPTION:Bieg odbędzie się w dniu 19 maja 2024 roku (niedziela) godz.11.00. Start i meta przy ul. Sikorskiego obok Pomnika Sanitariuszki.
URL:https://herkules.org.pl/events/i-kolobrzeski-polmaraton-brzegiem-baltyku/
LOCATION:Pomnik Sanitariuszki\, ul. Sikorskiego\, Kołobrzeg\, Zachodniopomorskie\, 78-100\, Poland
CATEGORIES:Bieganie
ORGANIZER;CN="Ko%C5%82obrzeskie Stowarzyszenie Bieg%C3%B3w Ulicznych %E2%80%9ENadmorscy Biegacze%E2%80%9D":MAILTO:nadmorscybiegacze@gmail.com
END:VEVENT
BEGIN:VEVENT
DTSTART;TZID=Europe/Warsaw:20240217T110000
DTEND;TZID=Europe/Warsaw:20240217T170000
DTSTAMP:20260421T104138
CREATED:20231120T200108Z
LAST-MODIFIED:20231202T120612Z
UID:3172-1708167600-1708189200@herkules.org.pl
SUMMARY:Bieg Walentynkowy
DESCRIPTION:Obowiązuje limit uczestników – 300 osób na wszystkich dystansach !!! \nCEL IMPREZY \n\nPromocja Miasta i Gminy Koszalin na terenie kraju.\nPopularyzacja biegania jako najbardziej naturalnej formy aktywności oraz zdrowego stylu życia.\n\nTERMIN I MIEJSCE \n\n17 lutego 2024 r. – Koszalin – Hala Widowiskowo-Sportowa przy ul. Śniadeckich 4\n\nPROGRAM MINUTOWY \n\ngodz. 9.00 – 10.45 – sekretariat zawodów (Hala Widowiskowo-Sportowa)\n\nBiegi dzieci i młodzieży \n\ngodz. 10:00 – bieg dzieci do 7 lat – 200 m\ngodz. 10:05 – bieg dzieci 8-9 lat – 400 m\ngodz. 10:10 – bieg dzieci 10-11 lat – 400 m\ngodz. 10:15 – bieg dzieci 12-13 lat – 800 m\ngodz. 10.30 – Walentynkowa Mila Biegowa – 1 Mila (1609m) – atest PZLA\ngodz. 11.00 – Bieg Główny – 5 km – atest PZLA\ngodz. 11.35 – Rajd Nordic Walking – 3\,4 km\ngodz. 12.00 – uroczyste podsumowanie
URL:https://herkules.org.pl/events/bieg-walentynkowy/
LOCATION:Hala Widowiskowo-Sportowa\, Śniadeckich 4\, Koszalin\, Zachodniopomorskie\, Poland
CATEGORIES:Bieganie
ATTACH;FMTTYPE=image/png:https://herkules.org.pl/wp-content/uploads/2023/11/BW2024.png
ORGANIZER;CN="Koszali%C5%84skie Towarzystwo Krzewienia Kultury Fizycznej":MAILTO:ktkkf@wp.pl
END:VEVENT
BEGIN:VEVENT
DTSTART;TZID=Europe/Warsaw:20240127T080000
DTEND;TZID=Europe/Warsaw:20240127T170000
DTSTAMP:20260421T104138
CREATED:20231108T155439Z
LAST-MODIFIED:20231110T095933Z
UID:3069-1706342400-1706374800@herkules.org.pl
SUMMARY:10. Ćwierćmaraton Komandosa
DESCRIPTION:TERMIN I MIEJSCE \n27 stycznia 2024 r. – Słupsk – Parafia pw. św. Jana Kantego w Słupsku\, teren\nparkingu przyparafialnego\, godz. 12.00. Trasa: Lasek Południowy Słupsk. \nPROGRAM MINUTOWY\n godz. 09.00 – 11.30 – Sekretariat zawodów (Namiot Fundacji „Sub ventum” przy Parafii pw. Św. Jana Kantego w Słupsku\, ul. Leśna 7a.\n godz. 12.00 – 10. Ćwierćmaraton Komandosa – start do biegu głównego – 10\,55 km – start ostry Kobiet.\n godz. 12.15 – 10. Ćwierćmaraton Komandosa – start do biegu głównego – 10\,55 km – start ostry Mężczyzn.\n godz. 14.00 – uroczyste podsumowanie.
URL:https://herkules.org.pl/events/10-cwiercmaraton-komandosa/
LOCATION:Słupsk\, ul. Leśna 7a\, Słupsk\, Leśna 7a\, Słupsk\, Pomorskie\, Poland
ORGANIZER;CN="Fundacja Wspierania Inicjatyw Niekonwencjonalnych %E2%80%9ESub ventum%E2%80%9D":MAILTO:darek_klos@op.pl
END:VEVENT
END:VCALENDAR