BEGIN:VCALENDAR
VERSION:2.0
PRODID:-//Herkules - Pomiar Czasu - ECPv6.15.20//NONSGML v1.0//EN
CALSCALE:GREGORIAN
METHOD:PUBLISH
X-WR-CALNAME:Herkules - Pomiar Czasu
X-ORIGINAL-URL:https://herkules.org.pl
X-WR-CALDESC:Wydarzenia dla Herkules - Pomiar Czasu
REFRESH-INTERVAL;VALUE=DURATION:PT1H
X-Robots-Tag:noindex
X-PUBLISHED-TTL:PT1H
BEGIN:VTIMEZONE
TZID:Europe/Warsaw
BEGIN:DAYLIGHT
TZOFFSETFROM:+0100
TZOFFSETTO:+0200
TZNAME:CEST
DTSTART:20240331T010000
END:DAYLIGHT
BEGIN:STANDARD
TZOFFSETFROM:+0200
TZOFFSETTO:+0100
TZNAME:CET
DTSTART:20241027T010000
END:STANDARD
BEGIN:DAYLIGHT
TZOFFSETFROM:+0100
TZOFFSETTO:+0200
TZNAME:CEST
DTSTART:20250330T010000
END:DAYLIGHT
BEGIN:STANDARD
TZOFFSETFROM:+0200
TZOFFSETTO:+0100
TZNAME:CET
DTSTART:20251026T010000
END:STANDARD
BEGIN:DAYLIGHT
TZOFFSETFROM:+0100
TZOFFSETTO:+0200
TZNAME:CEST
DTSTART:20260329T010000
END:DAYLIGHT
BEGIN:STANDARD
TZOFFSETFROM:+0200
TZOFFSETTO:+0100
TZNAME:CET
DTSTART:20261025T010000
END:STANDARD
END:VTIMEZONE
BEGIN:VEVENT
DTSTART;TZID=Europe/Warsaw:20251005T110000
DTEND;TZID=Europe/Warsaw:20251005T160000
DTSTAMP:20260420T210421
CREATED:20250704T084108Z
LAST-MODIFIED:20250704T084108Z
UID:3637-1759662000-1759680000@herkules.org.pl
SUMMARY:6 Białogardzki Bieg Szlakiem Gryfa
DESCRIPTION:
URL:https://herkules.org.pl/events/6-bialogardzki-bieg-szlakiem-gryfa/
LOCATION:Stadion w Białogardzie\, Stanisława Moniuszki 49\, Białogard\, Zachodniopomorskie\, 78-200\, Poland
CATEGORIES:Bieganie
ORGANIZER;CN="Bia%C5%82ogardzkie Stowarzyszenie Aktywno%C5%9Bci Sportowej%2C Miasto Bia%C5%82ogard":MAILTO:bb.szlakiemgryfa@wp.pl
END:VEVENT
END:VCALENDAR