BEGIN:VCALENDAR
VERSION:2.0
PRODID:-//Herkules - Pomiar Czasu - ECPv6.15.20//NONSGML v1.0//EN
CALSCALE:GREGORIAN
METHOD:PUBLISH
X-ORIGINAL-URL:https://herkules.org.pl
X-WR-CALDESC:Wydarzenia dla Herkules - Pomiar Czasu
REFRESH-INTERVAL;VALUE=DURATION:PT1H
X-Robots-Tag:noindex
X-PUBLISHED-TTL:PT1H
BEGIN:VTIMEZONE
TZID:Europe/Warsaw
BEGIN:DAYLIGHT
TZOFFSETFROM:+0100
TZOFFSETTO:+0200
TZNAME:CEST
DTSTART:20240331T010000
END:DAYLIGHT
BEGIN:STANDARD
TZOFFSETFROM:+0200
TZOFFSETTO:+0100
TZNAME:CET
DTSTART:20241027T010000
END:STANDARD
BEGIN:DAYLIGHT
TZOFFSETFROM:+0100
TZOFFSETTO:+0200
TZNAME:CEST
DTSTART:20250330T010000
END:DAYLIGHT
BEGIN:STANDARD
TZOFFSETFROM:+0200
TZOFFSETTO:+0100
TZNAME:CET
DTSTART:20251026T010000
END:STANDARD
BEGIN:DAYLIGHT
TZOFFSETFROM:+0100
TZOFFSETTO:+0200
TZNAME:CEST
DTSTART:20260329T010000
END:DAYLIGHT
BEGIN:STANDARD
TZOFFSETFROM:+0200
TZOFFSETTO:+0100
TZNAME:CET
DTSTART:20261025T010000
END:STANDARD
END:VTIMEZONE
BEGIN:VEVENT
DTSTART;TZID=Europe/Warsaw:20250921T110000
DTEND;TZID=Europe/Warsaw:20250921T140000
DTSTAMP:20260420T210238
CREATED:20250616T125044Z
LAST-MODIFIED:20250616T125044Z
UID:3618-1758452400-1758463200@herkules.org.pl
SUMMARY:X BIEG PRZEŁAJOWY im. st. chor. szt. mar. Tadeusza KLOSKOWSKIEGO
DESCRIPTION:
URL:https://herkules.org.pl/events/x-bieg-przelajowy-im-st-chor-szt-mar-tadeusza-kloskowskiego/
LOCATION:Stadion 650-lecia w Słupsku\, ul. Madalińskiego.\, ul Madalińskiego\, Słupsk\, Pomorskie\, 76-200\, Poland
ORGANIZER;CN="Fundacja Wspierania Inicjatyw Niekonwencjonalnych %E2%80%9ESub ventum%E2%80%9D":MAILTO:darek_klos@op.pl
END:VEVENT
BEGIN:VEVENT
DTSTART;TZID=Europe/Warsaw:20250927T110000
DTEND;TZID=Europe/Warsaw:20250927T170000
DTSTAMP:20260420T210238
CREATED:20250512T143446Z
LAST-MODIFIED:20250512T143502Z
UID:3555-1758970800-1758992400@herkules.org.pl
SUMMARY:BIEG CHARYTATYWNY  „ PO PROSTU BIEG”
DESCRIPTION:
URL:https://herkules.org.pl/events/bieg-charytatywny-po-prostu-bieg/
LOCATION:Wielkopolskie
CATEGORIES:Bieganie
END:VEVENT
END:VCALENDAR