BEGIN:VCALENDAR
VERSION:2.0
PRODID:-//Herkules - Pomiar Czasu - ECPv6.15.20//NONSGML v1.0//EN
CALSCALE:GREGORIAN
METHOD:PUBLISH
X-ORIGINAL-URL:https://herkules.org.pl
X-WR-CALDESC:Wydarzenia dla Herkules - Pomiar Czasu
REFRESH-INTERVAL;VALUE=DURATION:PT1H
X-Robots-Tag:noindex
X-PUBLISHED-TTL:PT1H
BEGIN:VTIMEZONE
TZID:Europe/Warsaw
BEGIN:DAYLIGHT
TZOFFSETFROM:+0100
TZOFFSETTO:+0200
TZNAME:CEST
DTSTART:20250330T010000
END:DAYLIGHT
BEGIN:STANDARD
TZOFFSETFROM:+0200
TZOFFSETTO:+0100
TZNAME:CET
DTSTART:20251026T010000
END:STANDARD
BEGIN:DAYLIGHT
TZOFFSETFROM:+0100
TZOFFSETTO:+0200
TZNAME:CEST
DTSTART:20260329T010000
END:DAYLIGHT
BEGIN:STANDARD
TZOFFSETFROM:+0200
TZOFFSETTO:+0100
TZNAME:CET
DTSTART:20261025T010000
END:STANDARD
BEGIN:DAYLIGHT
TZOFFSETFROM:+0100
TZOFFSETTO:+0200
TZNAME:CEST
DTSTART:20270328T010000
END:DAYLIGHT
BEGIN:STANDARD
TZOFFSETFROM:+0200
TZOFFSETTO:+0100
TZNAME:CET
DTSTART:20271031T010000
END:STANDARD
END:VTIMEZONE
BEGIN:VEVENT
DTSTART;TZID=Europe/Warsaw:20260912T090000
DTEND;TZID=Europe/Warsaw:20260912T170000
DTSTAMP:20260420T194515
CREATED:20260407T152219Z
LAST-MODIFIED:20260407T152219Z
UID:4165-1789203600-1789232400@herkules.org.pl
SUMMARY:Róża Wiatrów Jeziora Mausz
DESCRIPTION:
URL:https://herkules.org.pl/events/roza-wiatrow-jeziora-mausz-2/
LOCATION:Siedlisko Kłodno\, 83-320 Kłodno 6a\, Siedlisko Kłodno\, Bytów\, Pomorskie\, 83-320\, Poland
CATEGORIES:Bieganie
END:VEVENT
END:VCALENDAR