BEGIN:VCALENDAR
VERSION:2.0
PRODID:-//Herkules - Pomiar Czasu - ECPv6.15.20//NONSGML v1.0//EN
CALSCALE:GREGORIAN
METHOD:PUBLISH
X-WR-CALNAME:Herkules - Pomiar Czasu
X-ORIGINAL-URL:https://herkules.org.pl
X-WR-CALDESC:Wydarzenia dla Herkules - Pomiar Czasu
REFRESH-INTERVAL;VALUE=DURATION:PT1H
X-Robots-Tag:noindex
X-PUBLISHED-TTL:PT1H
BEGIN:VTIMEZONE
TZID:Europe/Warsaw
BEGIN:DAYLIGHT
TZOFFSETFROM:+0100
TZOFFSETTO:+0200
TZNAME:CEST
DTSTART:20250330T010000
END:DAYLIGHT
BEGIN:STANDARD
TZOFFSETFROM:+0200
TZOFFSETTO:+0100
TZNAME:CET
DTSTART:20251026T010000
END:STANDARD
BEGIN:DAYLIGHT
TZOFFSETFROM:+0100
TZOFFSETTO:+0200
TZNAME:CEST
DTSTART:20260329T010000
END:DAYLIGHT
BEGIN:STANDARD
TZOFFSETFROM:+0200
TZOFFSETTO:+0100
TZNAME:CET
DTSTART:20261025T010000
END:STANDARD
BEGIN:DAYLIGHT
TZOFFSETFROM:+0100
TZOFFSETTO:+0200
TZNAME:CEST
DTSTART:20270328T010000
END:DAYLIGHT
BEGIN:STANDARD
TZOFFSETFROM:+0200
TZOFFSETTO:+0100
TZNAME:CET
DTSTART:20271031T010000
END:STANDARD
END:VTIMEZONE
BEGIN:VEVENT
DTSTART;TZID=Europe/Warsaw:20260516T090000
DTEND;TZID=Europe/Warsaw:20260516T140000
DTSTAMP:20260420T135349
CREATED:20260407T150133Z
LAST-MODIFIED:20260407T150133Z
UID:4149-1778922000-1778940000@herkules.org.pl
SUMMARY:Bieg im. Asi Kenig
DESCRIPTION:
URL:https://herkules.org.pl/events/bieg-im-asi-kenig-2/
LOCATION:Sławsko Szkoła Podstawowa\, Sławko 97\, Sławsko\, Zachodniopomorskie\, 76-100\, Poland
END:VEVENT
BEGIN:VEVENT
DTSTART;TZID=Europe/Warsaw:20260516T110000
DTEND;TZID=Europe/Warsaw:20260516T170000
DTSTAMP:20260420T135349
CREATED:20251122T184724Z
LAST-MODIFIED:20251122T184724Z
UID:3694-1778929200-1778950800@herkules.org.pl
SUMMARY:12. Ćwierćmaratonu Komandosa
DESCRIPTION:
URL:https://herkules.org.pl/events/12-cwiercmaratonu-komandosa/
LOCATION:Stadion 650-lecia w Słupsku\, ul. Madalińskiego.\, ul Madalińskiego\, Słupsk\, Pomorskie\, 76-200\, Poland
CATEGORIES:Bieganie
ORGANIZER;CN="Fundacja Wspierania Inicjatyw Niekonwencjonalnych %E2%80%9ESub ventum%E2%80%9D":MAILTO:darek_klos@op.pl
END:VEVENT
END:VCALENDAR