BEGIN:VCALENDAR
VERSION:2.0
PRODID:-//Herkules - Pomiar Czasu - ECPv6.15.20//NONSGML v1.0//EN
CALSCALE:GREGORIAN
METHOD:PUBLISH
X-WR-CALNAME:Herkules - Pomiar Czasu
X-ORIGINAL-URL:https://herkules.org.pl
X-WR-CALDESC:Wydarzenia dla Herkules - Pomiar Czasu
REFRESH-INTERVAL;VALUE=DURATION:PT1H
X-Robots-Tag:noindex
X-PUBLISHED-TTL:PT1H
BEGIN:VTIMEZONE
TZID:Europe/Warsaw
BEGIN:DAYLIGHT
TZOFFSETFROM:+0100
TZOFFSETTO:+0200
TZNAME:CEST
DTSTART:20250330T010000
END:DAYLIGHT
BEGIN:STANDARD
TZOFFSETFROM:+0200
TZOFFSETTO:+0100
TZNAME:CET
DTSTART:20251026T010000
END:STANDARD
BEGIN:DAYLIGHT
TZOFFSETFROM:+0100
TZOFFSETTO:+0200
TZNAME:CEST
DTSTART:20260329T010000
END:DAYLIGHT
BEGIN:STANDARD
TZOFFSETFROM:+0200
TZOFFSETTO:+0100
TZNAME:CET
DTSTART:20261025T010000
END:STANDARD
BEGIN:DAYLIGHT
TZOFFSETFROM:+0100
TZOFFSETTO:+0200
TZNAME:CEST
DTSTART:20270328T010000
END:DAYLIGHT
BEGIN:STANDARD
TZOFFSETFROM:+0200
TZOFFSETTO:+0100
TZNAME:CET
DTSTART:20271031T010000
END:STANDARD
END:VTIMEZONE
BEGIN:VEVENT
DTSTART;TZID=Europe/Warsaw:20260613T100000
DTEND;TZID=Europe/Warsaw:20260613T140000
DTSTAMP:20260420T134221
CREATED:20260407T160346Z
LAST-MODIFIED:20260407T160346Z
UID:4178-1781344800-1781359200@herkules.org.pl
SUMMARY:44 Półmaraton Gochów
DESCRIPTION:
URL:https://herkules.org.pl/events/44-polmaraton-gochow/
LOCATION:Bytów\, start i meta – zamek w Bytowie\, Podzamcze\, Bytów\, Pomorskie\, 77-100\, Poland
CATEGORIES:Bieganie
END:VEVENT
BEGIN:VEVENT
DTSTART;TZID=Europe/Warsaw:20260613T110000
DTEND;TZID=Europe/Warsaw:20260613T140000
DTSTAMP:20260420T134221
CREATED:20260407T153457Z
LAST-MODIFIED:20260407T153457Z
UID:4170-1781348400-1781359200@herkules.org.pl
SUMMARY:4 Skolwińska Mila
DESCRIPTION:
URL:https://herkules.org.pl/events/4-skolwinska-mila/
LOCATION:Polana rekreacyjna z Torem rolkowym przy przystanku na ul. Orłowskiej nż 21 obok ulicy Stołczyńskiej w Szczecinie\, ul. Orłowska\, Szczecin\, Zachodniopomorskie\, 70-456\, Poland
CATEGORIES:Bieganie
END:VEVENT
BEGIN:VEVENT
DTSTART;TZID=Europe/Warsaw:20260614T120000
DTEND;TZID=Europe/Warsaw:20260614T170000
DTSTAMP:20260420T134221
CREATED:20260105T131219Z
LAST-MODIFIED:20260407T151239Z
UID:3705-1781438400-1781456400@herkules.org.pl
SUMMARY:ABEK X DRAWSKI BIEG PRZEŁAJOWY IM. JANA BUŁCZYŃSKIEGO
DESCRIPTION:
URL:https://herkules.org.pl/events/abek-x-drawski-bieg-przelajowy-im-jana-bulczynskiego/
LOCATION:Drawsko Pomorskie Park Chopina – plac przy orliku\, Park Chopina\, Drawsko Pomorskie\, Zachodniopomorskie\, Poland
CATEGORIES:Bieganie
ORGANIZER;CN="Stowarzyszenie ZDRUN EXTREME":MAILTO:karolinazdrun@wp.pl
END:VEVENT
END:VCALENDAR