BEGIN:VCALENDAR
VERSION:2.0
PRODID:-//Herkules - Pomiar Czasu - ECPv6.15.20//NONSGML v1.0//EN
CALSCALE:GREGORIAN
METHOD:PUBLISH
X-WR-CALNAME:Herkules - Pomiar Czasu
X-ORIGINAL-URL:https://herkules.org.pl
X-WR-CALDESC:Wydarzenia dla Herkules - Pomiar Czasu
REFRESH-INTERVAL;VALUE=DURATION:PT1H
X-Robots-Tag:noindex
X-PUBLISHED-TTL:PT1H
BEGIN:VTIMEZONE
TZID:Europe/Warsaw
BEGIN:DAYLIGHT
TZOFFSETFROM:+0100
TZOFFSETTO:+0200
TZNAME:CEST
DTSTART:20250330T010000
END:DAYLIGHT
BEGIN:STANDARD
TZOFFSETFROM:+0200
TZOFFSETTO:+0100
TZNAME:CET
DTSTART:20251026T010000
END:STANDARD
BEGIN:DAYLIGHT
TZOFFSETFROM:+0100
TZOFFSETTO:+0200
TZNAME:CEST
DTSTART:20260329T010000
END:DAYLIGHT
BEGIN:STANDARD
TZOFFSETFROM:+0200
TZOFFSETTO:+0100
TZNAME:CET
DTSTART:20261025T010000
END:STANDARD
BEGIN:DAYLIGHT
TZOFFSETFROM:+0100
TZOFFSETTO:+0200
TZNAME:CEST
DTSTART:20270328T010000
END:DAYLIGHT
BEGIN:STANDARD
TZOFFSETFROM:+0200
TZOFFSETTO:+0100
TZNAME:CET
DTSTART:20271031T010000
END:STANDARD
END:VTIMEZONE
BEGIN:VEVENT
DTSTART;TZID=Europe/Warsaw:20260509T110000
DTEND;TZID=Europe/Warsaw:20260509T150000
DTSTAMP:20260421T034640
CREATED:20260410T105320Z
LAST-MODIFIED:20260410T105320Z
UID:4181-1778324400-1778338800@herkules.org.pl
SUMMARY:III BIEG NIEBIESKICH MARZEŃ
DESCRIPTION:
URL:https://herkules.org.pl/events/iii-bieg-niebieskich-marzen/
LOCATION:Stadion Miejski w Jastrowiu\, Wojska Polskiego\, Jastrowie\, Wielkopolskie\, 64-915
CATEGORIES:Bieganie,Nordic Walking
END:VEVENT
BEGIN:VEVENT
DTSTART;TZID=Europe/Warsaw:20260509T120000
DTEND;TZID=Europe/Warsaw:20260509T150000
DTSTAMP:20260421T034640
CREATED:20260407T155641Z
LAST-MODIFIED:20260407T155731Z
UID:4175-1778328000-1778338800@herkules.org.pl
SUMMARY:XI Bieg i Rajd Nordic Walking na Mount Everest
DESCRIPTION:
URL:https://herkules.org.pl/events/xi-bieg-i-rajd-nordic-walking-na-mount-everest/
LOCATION:Plac rekreacyjno – sportowy  Mądrzechowo  ul. Sportowców\, Plac rekreacyjno – sportowy Mądrzechowo ul. Sportowców\, Bytów\, Pomorskie\, 77-100\, Poland
CATEGORIES:Bieganie
END:VEVENT
BEGIN:VEVENT
DTSTART;TZID=Europe/Warsaw:20260516T090000
DTEND;TZID=Europe/Warsaw:20260516T140000
DTSTAMP:20260421T034640
CREATED:20260407T150133Z
LAST-MODIFIED:20260407T150133Z
UID:4149-1778922000-1778940000@herkules.org.pl
SUMMARY:Bieg im. Asi Kenig
DESCRIPTION:
URL:https://herkules.org.pl/events/bieg-im-asi-kenig-2/
LOCATION:Sławsko Szkoła Podstawowa\, Sławko 97\, Sławsko\, Zachodniopomorskie\, 76-100\, Poland
END:VEVENT
BEGIN:VEVENT
DTSTART;TZID=Europe/Warsaw:20260516T110000
DTEND;TZID=Europe/Warsaw:20260516T170000
DTSTAMP:20260421T034640
CREATED:20251122T184724Z
LAST-MODIFIED:20251122T184724Z
UID:3694-1778929200-1778950800@herkules.org.pl
SUMMARY:12. Ćwierćmaratonu Komandosa
DESCRIPTION:
URL:https://herkules.org.pl/events/12-cwiercmaratonu-komandosa/
LOCATION:Stadion 650-lecia w Słupsku\, ul. Madalińskiego.\, ul Madalińskiego\, Słupsk\, Pomorskie\, 76-200\, Poland
CATEGORIES:Bieganie
ORGANIZER;CN="Fundacja Wspierania Inicjatyw Niekonwencjonalnych %E2%80%9ESub ventum%E2%80%9D":MAILTO:darek_klos@op.pl
END:VEVENT
BEGIN:VEVENT
DTSTART;TZID=Europe/Warsaw:20260517T110000
DTEND;TZID=Europe/Warsaw:20260517T140000
DTSTAMP:20260421T034640
CREATED:20251122T182432Z
LAST-MODIFIED:20251122T182432Z
UID:3685-1779015600-1779026400@herkules.org.pl
SUMMARY:III  KOŁOBRZESKI PÓŁMARATON BRZEGIEM BAŁTYKU
DESCRIPTION:
URL:https://herkules.org.pl/events/iii-kolobrzeski-polmaraton-brzegiem-baltyku/
LOCATION:Seaside Park Hotel Kołobrzeg\, Wschodnia 20\, Kołobrzeg\, Zachodniopomorskie\, Poland
CATEGORIES:Bieganie
ORGANIZER;CN="Ko%C5%82obrzeskie Stowarzyszenie Bieg%C3%B3w Ulicznych %E2%80%9ENadmorscy Biegacze%E2%80%9D":MAILTO:nadmorscybiegacze@gmail.com
END:VEVENT
BEGIN:VEVENT
DTSTART;TZID=Europe/Warsaw:20260523T100000
DTEND;TZID=Europe/Warsaw:20260523T140000
DTSTAMP:20260421T034640
CREATED:20260407T145846Z
LAST-MODIFIED:20260407T150529Z
UID:4147-1779530400-1779544800@herkules.org.pl
SUMMARY:XXIV Bieg Wenedów
DESCRIPTION:
URL:https://herkules.org.pl/events/xxiv-bieg-wenedow/
LOCATION:Koszalin\, ul. Rekreacyjna\, ul. Rekreacyjna\, Koszalin\, Zachodniopomorskie\, 75-401\, Poland
CATEGORIES:Bieganie
ORGANIZER;CN="Koszali%C5%84skie Towarzystwo Krzewienia Kultury Fizycznej":MAILTO:ktkkf@wp.pl
END:VEVENT
BEGIN:VEVENT
DTSTART;TZID=Europe/Warsaw:20260523T160000
DTEND;TZID=Europe/Warsaw:20260523T190000
DTSTAMP:20260421T034640
CREATED:20260407T150430Z
LAST-MODIFIED:20260407T150430Z
UID:4152-1779552000-1779562800@herkules.org.pl
SUMMARY:XXVIII Bieg Święców
DESCRIPTION:
URL:https://herkules.org.pl/events/xxviii-bieg-swiecow/
LOCATION:Stadion Sławno\, Plac Sportowy 1\, Sławno\, Zachodniopomorskie\, 76-100\, Poland
CATEGORIES:Bieganie
END:VEVENT
END:VCALENDAR