BEGIN:VCALENDAR
VERSION:2.0
PRODID:-//Herkules - Pomiar Czasu - ECPv6.15.20//NONSGML v1.0//EN
CALSCALE:GREGORIAN
METHOD:PUBLISH
X-ORIGINAL-URL:https://herkules.org.pl
X-WR-CALDESC:Wydarzenia dla Herkules - Pomiar Czasu
REFRESH-INTERVAL;VALUE=DURATION:PT1H
X-Robots-Tag:noindex
X-PUBLISHED-TTL:PT1H
BEGIN:VTIMEZONE
TZID:Europe/Warsaw
BEGIN:DAYLIGHT
TZOFFSETFROM:+0100
TZOFFSETTO:+0200
TZNAME:CEST
DTSTART:20250330T010000
END:DAYLIGHT
BEGIN:STANDARD
TZOFFSETFROM:+0200
TZOFFSETTO:+0100
TZNAME:CET
DTSTART:20251026T010000
END:STANDARD
BEGIN:DAYLIGHT
TZOFFSETFROM:+0100
TZOFFSETTO:+0200
TZNAME:CEST
DTSTART:20260329T010000
END:DAYLIGHT
BEGIN:STANDARD
TZOFFSETFROM:+0200
TZOFFSETTO:+0100
TZNAME:CET
DTSTART:20261025T010000
END:STANDARD
BEGIN:DAYLIGHT
TZOFFSETFROM:+0100
TZOFFSETTO:+0200
TZNAME:CEST
DTSTART:20270328T010000
END:DAYLIGHT
BEGIN:STANDARD
TZOFFSETFROM:+0200
TZOFFSETTO:+0100
TZNAME:CET
DTSTART:20271031T010000
END:STANDARD
END:VTIMEZONE
BEGIN:VEVENT
DTSTART;TZID=Europe/Warsaw:20260301T120000
DTEND;TZID=Europe/Warsaw:20260301T150000
DTSTAMP:20260421T040701
CREATED:20260105T154010Z
LAST-MODIFIED:20260105T154010Z
UID:3712-1772366400-1772377200@herkules.org.pl
SUMMARY:FIVE SEASIDE II – Kołobrzeski bieg 5km
DESCRIPTION:
URL:https://herkules.org.pl/events/five-seaside-ii-kolobrzeski-bieg-5km/
LOCATION:Seaside Park Hotel Kołobrzeg\, Wschodnia 20\, Kołobrzeg\, Zachodniopomorskie\, Poland
CATEGORIES:Bieganie
END:VEVENT
BEGIN:VEVENT
DTSTART;TZID=Europe/Warsaw:20260301T120000
DTEND;TZID=Europe/Warsaw:20260301T170000
DTSTAMP:20260421T040701
CREATED:20260105T131908Z
LAST-MODIFIED:20260105T132125Z
UID:3708-1772366400-1772384400@herkules.org.pl
SUMMARY:Tropem Wilczym - Police  Bieg Pamięci Żołnierzy Wyklętych
DESCRIPTION:
URL:https://herkules.org.pl/events/tropem-wilczym-police-bieg-pamieci-zolnierzy-wykletych/
LOCATION:fabryki benzyny syntetycznej Hydrierwerke Pölitz AG\, Licealna\, Police\, Zachodniopomorskie\, 72-010\, Poland
CATEGORIES:Bieganie
ORGANIZER;CN="Fundacja Aktywne Police":MAILTO:tropemwilczympolice@gmail.com
END:VEVENT
BEGIN:VEVENT
DTSTART;TZID=Europe/Warsaw:20260308T120000
DTEND;TZID=Europe/Warsaw:20260308T170000
DTSTAMP:20260421T040701
CREATED:20260120T201551Z
LAST-MODIFIED:20260120T201551Z
UID:3720-1772971200-1772989200@herkules.org.pl
SUMMARY:XVI Bieg Charytatywny im. chor. Kazimierza Masiowskiego  z okazji obchodów 81 Rocznicy Powrotu Polskości na Pomorze
DESCRIPTION:
URL:https://herkules.org.pl/events/xvi-bieg-charytatywny-im-chor-kazimierza-masiowskiego-z-okazji-obchodow-81-rocznicy-powrotu-polskosci-na-pomorze/
LOCATION:Boisko sportowe w Siemczynie\, Siemczyno\, Siemczyno\, Zachodnipomorskie\, 78-550\, Poland
CATEGORIES:Bieganie,Nordic Walking
END:VEVENT
BEGIN:VEVENT
DTSTART;TZID=Europe/Warsaw:20260314T110000
DTEND;TZID=Europe/Warsaw:20260314T140000
DTSTAMP:20260421T040701
CREATED:20251122T181228Z
LAST-MODIFIED:20251122T181228Z
UID:3681-1773486000-1773496800@herkules.org.pl
SUMMARY:Mistrzostwa Polski  Masters w Biegach Przełajowych
DESCRIPTION:
URL:https://herkules.org.pl/events/mistrzostwa-polski-masters-w-biegach-przelajowych/
LOCATION:Park Rudelka\, ul. Bema\, Toruń\, Kujawsko-Pomorskie\, 87-100\, Poland
END:VEVENT
BEGIN:VEVENT
DTSTART;TZID=Europe/Warsaw:20260321T114000
DTEND;TZID=Europe/Warsaw:20260321T150000
DTSTAMP:20260421T040701
CREATED:20251122T182758Z
LAST-MODIFIED:20251209T103417Z
UID:3687-1774093200-1774105200@herkules.org.pl
SUMMARY:Kołobrzeska 15-stka Zaślubin
DESCRIPTION:
URL:https://herkules.org.pl/events/kolobrzeska-15-stka-zaslubin-2/
LOCATION:Kołobrzeg\, ul. Rodziewiczówny – Sanatorium IKAR\, ul. Rodziewiczówny - Sanatorium IKAR\, Kołobrzeg\, Zachodniopomorskie\, Poland
CATEGORIES:Bieganie
END:VEVENT
BEGIN:VEVENT
DTSTART;TZID=Europe/Warsaw:20260328T060000
DTEND;TZID=Europe/Warsaw:20260328T200000
DTSTAMP:20260421T040701
CREATED:20260128T134806Z
LAST-MODIFIED:20260128T134824Z
UID:3940-1774677600-1774728000@herkules.org.pl
SUMMARY:5. edycjia Kołobrzeskiego Triathlonu Indoor
DESCRIPTION:
URL:https://herkules.org.pl/events/5-edycjia-kolobrzeskiego-triathlonu-indoor/
LOCATION:Zachodniopomorskie
CATEGORIES:Triathlon
END:VEVENT
BEGIN:VEVENT
DTSTART;TZID=Europe/Warsaw:20260328T090000
DTEND;TZID=Europe/Warsaw:20260328T170000
DTSTAMP:20260421T040701
CREATED:20251007T194217Z
LAST-MODIFIED:20251007T194217Z
UID:3662-1774688400-1774717200@herkules.org.pl
SUMMARY:Otwarte Górskie Mistrzostwa Polski Nordic Walking 21\,1km
DESCRIPTION:
URL:https://herkules.org.pl/events/otwarte-gorskie-mistrzostwa-polski-nordic-walking-211km/
LOCATION:Prudnik – Las (Sanktuarium św. Józefa ul. Józefa Poniatowskiego 5\, 48-200 Prudnik\, Sanktuarium św. Józefa ul. Józefa Poniatowskiego 5\, Prudnik\, Dolnośląskie\, 48-200 Prudnik\, Poland
CATEGORIES:Nordic Walking
END:VEVENT
BEGIN:VEVENT
DTSTART;TZID=Europe/Warsaw:20260328T133000
DTEND;TZID=Europe/Warsaw:20260328T170000
DTSTAMP:20260421T040701
CREATED:20251007T190617Z
LAST-MODIFIED:20251007T191110Z
UID:3656-1774704600-1774717200@herkules.org.pl
SUMMARY:II PRUDNICKI BIEG GÓRSKI
DESCRIPTION:
URL:https://herkules.org.pl/events/ii-prudnicki-bieg-gorski/
LOCATION:Prudnik – Las (Sanktuarium św. Józefa ul. Józefa Poniatowskiego 5\, 48-200 Prudnik\, Sanktuarium św. Józefa ul. Józefa Poniatowskiego 5\, Prudnik\, Dolnośląskie\, 48-200 Prudnik\, Poland
CATEGORIES:Bieganie
END:VEVENT
END:VCALENDAR