BEGIN:VCALENDAR
VERSION:2.0
PRODID:-//Herkules - Pomiar Czasu - ECPv6.15.20//NONSGML v1.0//EN
CALSCALE:GREGORIAN
METHOD:PUBLISH
X-ORIGINAL-URL:https://herkules.org.pl
X-WR-CALDESC:Wydarzenia dla Herkules - Pomiar Czasu
REFRESH-INTERVAL;VALUE=DURATION:PT1H
X-Robots-Tag:noindex
X-PUBLISHED-TTL:PT1H
BEGIN:VTIMEZONE
TZID:Europe/Warsaw
BEGIN:DAYLIGHT
TZOFFSETFROM:+0100
TZOFFSETTO:+0200
TZNAME:CEST
DTSTART:20240331T010000
END:DAYLIGHT
BEGIN:STANDARD
TZOFFSETFROM:+0200
TZOFFSETTO:+0100
TZNAME:CET
DTSTART:20241027T010000
END:STANDARD
BEGIN:DAYLIGHT
TZOFFSETFROM:+0100
TZOFFSETTO:+0200
TZNAME:CEST
DTSTART:20250330T010000
END:DAYLIGHT
BEGIN:STANDARD
TZOFFSETFROM:+0200
TZOFFSETTO:+0100
TZNAME:CET
DTSTART:20251026T010000
END:STANDARD
BEGIN:DAYLIGHT
TZOFFSETFROM:+0100
TZOFFSETTO:+0200
TZNAME:CEST
DTSTART:20260329T010000
END:DAYLIGHT
BEGIN:STANDARD
TZOFFSETFROM:+0200
TZOFFSETTO:+0100
TZNAME:CET
DTSTART:20261025T010000
END:STANDARD
END:VTIMEZONE
BEGIN:VEVENT
DTSTART;VALUE=DATE:20250807
DTEND;VALUE=DATE:20250810
DTSTAMP:20260421T152510
CREATED:20250616T125631Z
LAST-MODIFIED:20250616T125631Z
UID:3620-1754524800-1754783999@herkules.org.pl
SUMMARY:PLANET BALTIC SUP RACE™ 2025
DESCRIPTION:
URL:https://herkules.org.pl/events/planet-baltic-sup-race-2025/
LOCATION:Zachodniopomorskie
CATEGORIES:SUP
ORGANIZER;CN="Akademia Sport%C3%B3w Wodnych mksailing.pl":MAILTO:mk@mksailing.pl
END:VEVENT
BEGIN:VEVENT
DTSTART;TZID=Europe/Warsaw:20250810T090000
DTEND;TZID=Europe/Warsaw:20250810T170000
DTSTAMP:20260421T152510
CREATED:20250310T204428Z
LAST-MODIFIED:20250517T123044Z
UID:3520-1754816400-1754845200@herkules.org.pl
SUMMARY:Bieg Wolności
DESCRIPTION:
URL:https://herkules.org.pl/events/bieg-wolnosci-2/
LOCATION:Pole Piknikowe w Jastrowiu\, Wojska Polskiego 90\, Jastrowie\, 6692523621\, 64-915\, Poland
CATEGORIES:Bieganie,MTB,Nordic Walking
END:VEVENT
BEGIN:VEVENT
DTSTART;VALUE=DATE:20250822
DTEND;VALUE=DATE:20250825
DTSTAMP:20260421T152510
CREATED:20250112T151217Z
LAST-MODIFIED:20250112T151217Z
UID:3501-1755820800-1756079999@herkules.org.pl
SUMMARY:Festiwal Biegów "Dziki Weekend"
DESCRIPTION:
URL:https://herkules.org.pl/events/festiwal-biegow-dziki-weekend/
LOCATION:Szkoła Podstawowa w Policach\, Piaskowa 99\, Police\, Zachodniopomorskie\, Poland
CATEGORIES:Bieganie
ORGANIZER;CN="Stowarzyszenia Klubu Biegowego %E2%80%9EDzik%E2%80%9D":MAILTO:biuro@herkules.org.pl
END:VEVENT
BEGIN:VEVENT
DTSTART;TZID=Europe/Warsaw:20250823T110000
DTEND;TZID=Europe/Warsaw:20250823T170000
DTSTAMP:20260421T152510
CREATED:20250516T195537Z
LAST-MODIFIED:20250516T195556Z
UID:3568-1755946800-1755968400@herkules.org.pl
SUMMARY:XXV OGÓLNOPOLSKI „BIEG KU SŁOŃCU”  O PUCHAR WÓJTA GMINY KOŁOBRZEG
DESCRIPTION:
URL:https://herkules.org.pl/events/xxv-ogolnopolski-bieg-ku-sloncu-o-puchar-wojta-gminy-kolobrzeg/
LOCATION:Dźwyrzyno\, ul. Sportowa 29\, Dźwirzyno\, Zachodniopomorskie\, Poland
CATEGORIES:Bieganie
ORGANIZER;CN="Gminny O%C5%9Brodek Sportu Turystyki i Rekreacji w D%C5%BAwirzynie":MAILTO:gostir@dzwirzyno.pl
END:VEVENT
BEGIN:VEVENT
DTSTART;TZID=Europe/Warsaw:20250830T110000
DTEND;TZID=Europe/Warsaw:20250830T170000
DTSTAMP:20260421T152510
CREATED:20241023T165758Z
LAST-MODIFIED:20241023T165758Z
UID:3449-1756551600-1756573200@herkules.org.pl
SUMMARY:XI CROSS NA WRZOSACH
DESCRIPTION:
URL:https://herkules.org.pl/events/xi-cross-na-wrzosach/
LOCATION:Wrzosowiska Okonek\, Rezerwat Przyrody Wrzosowiska\, Okonek\, Zachodniopomorskie\, 64-965\, Poland
CATEGORIES:Bieganie
END:VEVENT
BEGIN:VEVENT
DTSTART;TZID=Europe/Warsaw:20250830T130000
DTEND;TZID=Europe/Warsaw:20250830T170000
DTSTAMP:20260421T152510
CREATED:20250527T132606Z
LAST-MODIFIED:20250602T132744Z
UID:3600-1756558800-1756573200@herkules.org.pl
SUMMARY:VI BIEG BEZ SPINY
DESCRIPTION:
URL:https://herkules.org.pl/events/vi-bieg-bez-spiny/
LOCATION:Niemica\, Niemica 31\, Malechowo\, Zachodniopomorskie\, 76-142\, Poland
CATEGORIES:Bieganie
ORGANIZER;CN="Gmina Malechowo":MAILTO:kultura@malechowo.pl
END:VEVENT
END:VCALENDAR