BEGIN:VCALENDAR
VERSION:2.0
PRODID:-//Herkules - Pomiar Czasu - ECPv6.15.20//NONSGML v1.0//EN
CALSCALE:GREGORIAN
METHOD:PUBLISH
X-WR-CALNAME:Herkules - Pomiar Czasu
X-ORIGINAL-URL:https://herkules.org.pl
X-WR-CALDESC:Wydarzenia dla Herkules - Pomiar Czasu
REFRESH-INTERVAL;VALUE=DURATION:PT1H
X-Robots-Tag:noindex
X-PUBLISHED-TTL:PT1H
BEGIN:VTIMEZONE
TZID:Europe/Warsaw
BEGIN:DAYLIGHT
TZOFFSETFROM:+0100
TZOFFSETTO:+0200
TZNAME:CEST
DTSTART:20220327T010000
END:DAYLIGHT
BEGIN:STANDARD
TZOFFSETFROM:+0200
TZOFFSETTO:+0100
TZNAME:CET
DTSTART:20221030T010000
END:STANDARD
BEGIN:DAYLIGHT
TZOFFSETFROM:+0100
TZOFFSETTO:+0200
TZNAME:CEST
DTSTART:20230326T010000
END:DAYLIGHT
BEGIN:STANDARD
TZOFFSETFROM:+0200
TZOFFSETTO:+0100
TZNAME:CET
DTSTART:20231029T010000
END:STANDARD
BEGIN:DAYLIGHT
TZOFFSETFROM:+0100
TZOFFSETTO:+0200
TZNAME:CEST
DTSTART:20240331T010000
END:DAYLIGHT
BEGIN:STANDARD
TZOFFSETFROM:+0200
TZOFFSETTO:+0100
TZNAME:CET
DTSTART:20241027T010000
END:STANDARD
BEGIN:DAYLIGHT
TZOFFSETFROM:+0100
TZOFFSETTO:+0200
TZNAME:CEST
DTSTART:20250330T010000
END:DAYLIGHT
BEGIN:STANDARD
TZOFFSETFROM:+0200
TZOFFSETTO:+0100
TZNAME:CET
DTSTART:20251026T010000
END:STANDARD
END:VTIMEZONE
BEGIN:VEVENT
DTSTART;TZID=Europe/Warsaw:20240420T120000
DTEND;TZID=Europe/Warsaw:20240420T150000
DTSTAMP:20260421T080940
CREATED:20240219T213159Z
LAST-MODIFIED:20240219T213223Z
UID:3248-1713614400-1713625200@herkules.org.pl
SUMMARY:Bieg im. Asi Kenig
DESCRIPTION:Termin i miejsce: 20 kwietnia 2024 roku (sobota) – godz. 9:00; Sławsko (teren w centrum wsi przy szkole i placu integracyjnym) – Radosław – Sławsko (teren w centrum wsi przy szkole i placu integracyjnym).
URL:https://herkules.org.pl/events/bieg-im-asi-kenig/
LOCATION:Sławsko Szkoła Podstawowa\, Sławko 97\, Sławsko\, Zachodniopomorskie\, 76-100\, Poland
CATEGORIES:Bieganie,Nordic Walking
END:VEVENT
BEGIN:VEVENT
DTSTART;TZID=Europe/Warsaw:20240420T080000
DTEND;TZID=Europe/Warsaw:20240420T170000
DTSTAMP:20260421T080940
CREATED:20231110T103244Z
LAST-MODIFIED:20231202T120820Z
UID:3100-1713600000-1713632400@herkules.org.pl
SUMMARY:XI Otwarte Mistrzostwa Polski Nordic Walking w Maratonie\, XIII Otwarte Sztafetowe Mistrzostwa Polski NW
DESCRIPTION:TERMINY I MIEJSCE ZAWODÓW \n\n20 kwietnia 2024 r. – Biały Bór – ul. Sądowa 39 (Plaża Miejska)\n\nRAMOWY PROGRAM MINUTOWY ZAWODÓW \n\n7:30 – 12:30 – rejestracja zawodników\,\n8:45 – otwarcie imprezy\,\n9:00 – start ostry MARATON\n10:00 – start SZTAFETY\n13:30 – start RAJD\n17:00 – zamknięcie trasy zawodów\n17:00 – dekoracja maratonu i sztafet\n\nDYSTANSE \n\nMaraton – 42 km 195 m (10 okrążeń po 4 219 m)\nSztafety Seniorska –  1 i 2 zmiana x 3 okrążenia=12 657 m  + 3 i 4 zmiana x 2 okrążenia x 4 219 m=8 438 m\nRajd – 4\,2 km
URL:https://herkules.org.pl/events/xi-otwarte-mistrzostwa-polski-nordic-walking-w-maratonie-xiii-otwarte-sztafetowe-mistrzostwa-polski-nw/
LOCATION:Biały Bór\, Plaża Miejska\, Sądowa 36\, Biały Bór\, Zachodniopomorskie\, Poland
CATEGORIES:Nordic Walking
ATTACH;FMTTYPE=image/png:https://herkules.org.pl/wp-content/uploads/2023/11/Kalendarz_2024_MP_BB.png
ORGANIZER;CN="Polskie Zrzeszenie Nordic Walking":MAILTO:http://pznw.org.pl/pznw/
END:VEVENT
BEGIN:VEVENT
DTSTART;TZID=Europe/Warsaw:20240414T100000
DTEND;TZID=Europe/Warsaw:20240414T170000
DTSTAMP:20260421T080940
CREATED:20240309T191052Z
LAST-MODIFIED:20240309T191052Z
UID:3293-1713088800-1713114000@herkules.org.pl
SUMMARY:5 BIAŁOGARDZKI BIEG SZLAKIEM GRYFA
DESCRIPTION:
URL:https://herkules.org.pl/events/5-bialogardzki-bieg-szlakiem-gryfa/
LOCATION:Stadion LA\, Moniuszki 49\, Białogard\, Zachodniopomorskie\, Poland
CATEGORIES:Bieganie
ORGANIZER;CN="Bia%C5%82ogardzkie Stowarzyszenie Aktywno%C5%9Bci Sportowej":MAILTO:bb.szlakiemgryfa@wp.pl
END:VEVENT
BEGIN:VEVENT
DTSTART;TZID=Europe/Warsaw:20240414T080000
DTEND;TZID=Europe/Warsaw:20240414T170000
DTSTAMP:20260421T080940
CREATED:20240228T165643Z
LAST-MODIFIED:20240228T165643Z
UID:3262-1713081600-1713114000@herkules.org.pl
SUMMARY:12 Pielgrzymka Maratońska Bytów – Sianowo 2024
DESCRIPTION:HAMORNOGRAM PIELGRZYMKI MARATOŃSKIEJ: – \n\n14 kwietnia 2024 godzina 7:00 – Msza św. w kościele św. Filipa Neri w Bytowie.\n14 kwietnia 2024 godzina 8:15 – Start do Parchowa.\n14 kwietnia 2024 godzina 9:55 – Przybycie do Parchowa.\n14 kwietnia 2024 godzina 10:20 –Modlitwa w kościele pw. Św. Mikołaja w Parchowie.\n14 kwietnia 2024 godzina 10:30 – Start do Sulęczyna.\n14 kwietnia 2024 godzina 11:25 – Przybycie do Sulęczyna.\n14 kwietnia 2024 godzina 11:30 – Modlitwa w kościele pw. Św. Trójcy w Sulęczynie.\n14 kwietnia 2024 godzina 12:00 – Start do Gowidlina.\n14 kwietnia 2024 godzina 13:30 – Przybycie do Gowidlina.\n14 kwietnia 2018 godzina 13:35 – Modlitwa w kościele pw. Niepokalanego Poczęcia NMP.\n14 kwietnia 2024 godzina 14:00 – Start do Sierakowic.\n14 kwietnia 2024 godzina 15:00 – Przybycie do Sierakowic.\n14 kwietnia 2024 godzina 15:05 – Modlitwa przy Ołtarzu Papieskim w Sierakowicach.\n14 kwietnia 2024 godzina 15:30 – Start do Sianowa.\n14 kwietnia 2024 godzina 17:20 – Przybycie do Sianowa.\n14 kwietnia 2024 godzina 18:00 – Msza św. w Sanktuarium Królowej Kaszub w Sianowie.\n14 kwietnia 2024 godzina 19:15 – Wspólny posiłek w Domu Pielgrzyma w Sianowie.\n14 kwietnia 2024 godzina 20:00 – Powrót do Bytowa.
URL:https://herkules.org.pl/events/12-pielgrzymka-maratonska-bytow-sianowo-2024/
LOCATION:Zachodniopomorskie
CATEGORIES:Bieganie,Nordic Walking
END:VEVENT
BEGIN:VEVENT
DTSTART;TZID=Europe/Warsaw:20240413T100000
DTEND;TZID=Europe/Warsaw:20240413T150000
DTSTAMP:20260421T080940
CREATED:20231111T175642Z
LAST-MODIFIED:20231204T153529Z
UID:3141-1713002400-1713020400@herkules.org.pl
SUMMARY:Mistrzostwa Polski Masters w Biegu Górskim\, XV Koszaliński Bieg Górski
DESCRIPTION:TERMIN \n13 kwietnia 2024 r.  (sobota) \nMIEJSCE \nKoszalin\, ul. Rekreacyjna (przy Koszalińskim Parku Wodnym) \nDYSTANSE \nMISTRZOSTWA POLSKI MASTERS W BIEGU GÓRSKIM W STYLU ANGLOSASKIM – XV KOSZALIŃSKI BIEG GÓRSKI. \nKategoria Masters: \n– 10 km ( kategorie wiekowe do K/M 55 ) \n– 5 km ( kategorie wiekowe od K/M 60 +) \nKategoria open: \n– 10 km i 5km \nPROGRAM MINUTOWY \n\n9:00   – otwarcie biura zawodów\n11:00   – start 10 km\n11:05   – start 5 km\n13.00   – uroczyste podsumowanie
URL:https://herkules.org.pl/events/mistrzostwa-polski-masters-w-biegu-gorskim-xv-koszalinski-bieg-gorski/
LOCATION:Deptak Góra Chełmska\, Rekreacyjna\, Koszalin\, Zachodniopomorskie\, Poland
CATEGORIES:Bieganie
ATTACH;FMTTYPE=image/jpeg:https://herkules.org.pl/wp-content/uploads/2023/11/402635733_355180817065164_164067809401085848_n.jpg
ORGANIZER;CN="Koszali%C5%84skie Towarzystwo Krzewienia Kultury Fizycznej":MAILTO:ktkkf@wp.pl
END:VEVENT
BEGIN:VEVENT
DTSTART;TZID=Europe/Warsaw:20240406T073000
DTEND;TZID=Europe/Warsaw:20240406T163000
DTSTAMP:20260421T080940
CREATED:20160418T081017Z
LAST-MODIFIED:20231202T120714Z
UID:2133-1712388600-1712421000@herkules.org.pl
SUMMARY:VI OTWARTE MP W PÓŁMARATONIE GÓRSKIM NORDIC WALKING
DESCRIPTION:Termin imprezy:  \n\nsobota  06.04.2024r.\n\nMiejsce :  \n\nPrudnik – Las (Sanktuarium św. Józefa ul. Józefa Poniatowskiego 5\, 48-200 Prudnik )\n\nDystanse:  \n\n21\,0975 km wszystkie kategorie wiekowe  od lat 18\,\n5 km \, rajd bez podziału na kategorie wiekowe\, niepełnosprawni\, dzieci oraz młodzież.\nMini Nordic Walking dla najmłodszych 200 m\n\nProgram Minutowy : \nBiuro zawodów: \n\n05.04.2024 – Szkolne Schronisko Młodzieżowe „Dąbrówka”\, 18:00 – 20:00\n06.04.2024 – teren zawodów\, 7:30 – 9:30\n\n\n9.30 – 9.45 Wspólna rozgrzewka\,\n9.45 –  uroczyste otwarcie zawodów\,\n10.00 – start na dystansie 21\,0975 km\,\n10.15 –  start na dystansie 5 km.\n14.45– dekoracja miejsc: open \,1-3 w kategoriach wiekowych\, losowanie nagród\,\n16.30- zakończenie imprezy.
URL:https://herkules.org.pl/events/vi-otwarte-mistrzostwa-polski-w-polmaratonie-gorskim-nordic-walking/
LOCATION:Prudnik – Sanktuarium św. Józefa\, Sanktuarium św. Józefa ul. Józefa Poniatowskiego 5\, Prudnik\, Opolskie\, 48-200\, Poland
ATTACH;FMTTYPE=image/png:https://herkules.org.pl/wp-content/uploads/2016/04/Kalendarz_2024_MP_Prudnik.png
ORGANIZER;CN="Polskie Zrzeszenie Nordic Walking":MAILTO:http://pznw.org.pl/pznw/
END:VEVENT
BEGIN:VEVENT
DTSTART;TZID=Europe/Warsaw:20240317T110000
DTEND;TZID=Europe/Warsaw:20240317T170000
DTSTAMP:20260421T080940
CREATED:20231218T175317Z
LAST-MODIFIED:20240121T171223Z
UID:3209-1710673200-1710694800@herkules.org.pl
SUMMARY:Kołobrzeska 15-stka Zaślubin
DESCRIPTION:Program szczegółowy: \n\ngodz. 08:00 – otwarcie biura zawodów\ngodz. 11:00 – start biegu 15 km\n13:30 – dekoracja uczestników w poszczególnych kategoriach\nok. 14:30 – losowanie nagród wśród uczestników\n15:00 – zamknięcie biura zawodów.\n\nDodatkowe kategorie \n\nWP – klasyfikacja obejmująca kategorię wojska\nP – klasyfikacja obejmująca kategorię policji\nSP – klasyfikacja obejmująca strażaków zawodowych\nKategoria małżeńska K+M klasyfikacja obejmująca – suma czasów 2 osób.\nD – klasyfikacja drużynowa do klasyfikacji liczą się wyniki trzech zawodników\nN – niepełnosprawni – amputacje kończyn dolnych\, amputacje górne\, niedowidzący i inne schorzenia – zapewniamy jednakowe upominki – stają poniżej podium.
URL:https://herkules.org.pl/events/xxxviii-kolobrzeski-bieg-zaslubin/
LOCATION:Start: Kołobrzeg\, ul. Rodziewiczówny - Sanatorium IKAR\, Kołobrzeg\, Poland
CATEGORIES:Bieganie
ATTACH;FMTTYPE=image/jpeg:https://herkules.org.pl/wp-content/uploads/2023/12/419234883_122116960796159457_1424323446411514426_n.jpg
ORGANIZER;CN="Miejski O%C5%9Brodek Sportu i Rekreacji w Ko%C5%82obrzegu Ko%C5%82obrzeskie":MAILTO:w.gall@mosir.kolobrzeg.pl
END:VEVENT
BEGIN:VEVENT
DTSTART;TZID=Europe/Warsaw:20240310T100000
DTEND;TZID=Europe/Warsaw:20240310T140000
DTSTAMP:20260421T080940
CREATED:20240202T082408Z
LAST-MODIFIED:20240202T082408Z
UID:3237-1710064800-1710079200@herkules.org.pl
SUMMARY:XIV Bieg Charytatywny im. chor. Kazimierza Masiowskiego - bieg 5km i NW
DESCRIPTION:Bieg przełajowy na dystansie 5km\, nordic walking 5km oraz biegi dzieci i młodzieży.
URL:https://herkules.org.pl/events/xiv-bieg-charytatywny-im-chor-kazimierza-masiowskiego-bieg-5km-i-nw/
LOCATION:Boisko sportowe w Siemczynie\, Siemczyno\, Siemczyno\, Zachodnipomorskie\, 78-550\, Poland
CATEGORIES:Bieganie,Nordic Walking
ORGANIZER;CN="STOWARZYSZENIE SPORTOWE GRUPA BIEGOWA RUNDORFINA":MAILTO:rundorfina@gmail.com
END:VEVENT
BEGIN:VEVENT
DTSTART;TZID=Europe/Warsaw:20240303T120000
DTEND;TZID=Europe/Warsaw:20240303T170000
DTSTAMP:20260421T080940
CREATED:20240228T165045Z
LAST-MODIFIED:20240228T165045Z
UID:3256-1709467200-1709485200@herkules.org.pl
SUMMARY:Bieg Pamięci Żołnierzy Wyklętych
DESCRIPTION:      TERMIN\, MIEJSCE ORAZ TRASY \n\nBieg na dystansie 1963 metry – start o godz. 13.00.\nBieg na dystansie 10 km (dwa okrążenia) – start o godz. 13:30.\nMarsz nordic walking na dystansie 5 km (jedno okrążenie) – start o godz. 13:30.\n\nKLASYFIKACJA\, NAGRODY\,  \n\nKażdy zawodnik\, który ukończy bieg zgodnie z regulaminem\, otrzyma medal okolicznościowy Tropem Wilczym – Bieg Pamięci Żołnierzy Wyklętych 2024.\nKlasyfikacja obejmuje 3 pierwsze miejsca kobiet i mężczyzn w biegu na 10 km i 3 pierwsze miejsca kobiet i mężczyzn w marszu nordic walking\, uczestnicy otrzymają nagrody rzeczowe.\nNagrodzeni zostaną zdobywcy pierwszych miejsc w kategoriach wiekowych K/M:\n– 16 – 29\n– 30 – 39\n– 40 – 49\n– 50 – 59\n– powyżej 60.\nWyróżniony zostanie najmłodszy oraz  najstarszy zawodnik i zawodniczka na obu dystansach.\nNajliczniej reprezentowana rodzina otrzyma puchar.
URL:https://herkules.org.pl/events/bieg-pamieci-zolnierzy-wykletych/
LOCATION:Zespół Szkół w  Borzytuchomiu\, ul. Szkolna 1.\, Zespół Szkół w Borzytuchomiu\, ul. Szkolna 1.\, Borzytuchom\, Pomorskie\, 77-141\, Poland
CATEGORIES:Bieganie,Nordic Walking
END:VEVENT
BEGIN:VEVENT
DTSTART;TZID=Europe/Warsaw:20240217T110000
DTEND;TZID=Europe/Warsaw:20240217T170000
DTSTAMP:20260421T080940
CREATED:20231120T200108Z
LAST-MODIFIED:20231202T120612Z
UID:3172-1708167600-1708189200@herkules.org.pl
SUMMARY:Bieg Walentynkowy
DESCRIPTION:Obowiązuje limit uczestników – 300 osób na wszystkich dystansach !!! \nCEL IMPREZY \n\nPromocja Miasta i Gminy Koszalin na terenie kraju.\nPopularyzacja biegania jako najbardziej naturalnej formy aktywności oraz zdrowego stylu życia.\n\nTERMIN I MIEJSCE \n\n17 lutego 2024 r. – Koszalin – Hala Widowiskowo-Sportowa przy ul. Śniadeckich 4\n\nPROGRAM MINUTOWY \n\ngodz. 9.00 – 10.45 – sekretariat zawodów (Hala Widowiskowo-Sportowa)\n\nBiegi dzieci i młodzieży \n\ngodz. 10:00 – bieg dzieci do 7 lat – 200 m\ngodz. 10:05 – bieg dzieci 8-9 lat – 400 m\ngodz. 10:10 – bieg dzieci 10-11 lat – 400 m\ngodz. 10:15 – bieg dzieci 12-13 lat – 800 m\ngodz. 10.30 – Walentynkowa Mila Biegowa – 1 Mila (1609m) – atest PZLA\ngodz. 11.00 – Bieg Główny – 5 km – atest PZLA\ngodz. 11.35 – Rajd Nordic Walking – 3\,4 km\ngodz. 12.00 – uroczyste podsumowanie
URL:https://herkules.org.pl/events/bieg-walentynkowy/
LOCATION:Hala Widowiskowo-Sportowa\, Śniadeckich 4\, Koszalin\, Zachodniopomorskie\, Poland
CATEGORIES:Bieganie
ATTACH;FMTTYPE=image/png:https://herkules.org.pl/wp-content/uploads/2023/11/BW2024.png
ORGANIZER;CN="Koszali%C5%84skie Towarzystwo Krzewienia Kultury Fizycznej":MAILTO:ktkkf@wp.pl
END:VEVENT
BEGIN:VEVENT
DTSTART;TZID=Europe/Warsaw:20240210T090000
DTEND;TZID=Europe/Warsaw:20240210T130000
DTSTAMP:20260421T080940
CREATED:20231115T180644Z
LAST-MODIFIED:20231115T180739Z
UID:3155-1707555600-1707570000@herkules.org.pl
SUMMARY:Bieg Śniadaniowy Morsów z Hotelem Unitral
DESCRIPTION:TERMIN \n\nMielno\, 10 lutego 2024 r. o godz. 9.00\n\nMIEJSCE \n\nMielno\, ścieżka rowerowa ( przy Łódce Drewnianej\, wejście od ulicy Kościelnej lub 1 Maja – Biuro zawodów / start i meta )\n\nZAPISY \n\non-line: odbywały się będą do dnia 08.02.2024 r. do godziny 23:59 przez formularz zgłoszeniowy dostępny na stronie organizatora https://zlotmorsow.mielno.pl/ oraz partnera technicznego http://herkules.org.pl/\, w dniu imprezy zapisać się będzie można w  biurze zawodów od godz. 8:00 ( ścieżka rowerowa\, przy Łódce Drewnianej\, wejście od ulicy Kościelnej lub 1 Maja )\nLimit 300 osób !!!\n\nOPŁATA STARTOWA \n\n30 zł – płatna przelewem do dnia 08.02.2024 r.\n40 zł  – w dniu zawodów\n\nOpłata startowa na konto Fundacji Herkules All Sports nr 55105015591000009031788087 z dopiskiem “bieg śniadaniowy” \nW pakiecie startowym śniadanie oraz medal \nPLAN MINUTOWY \n\n8:00 – otwarcie biura zawodów dla uczestników\n9:00 – start 5 km\n10:00 – podsumowanie
URL:https://herkules.org.pl/events/bieg-sniadaniowy-morsow-oraz-klubowe-mistrzostwa-morsow-z-hotelem-unitral/
LOCATION:Drewniana Łódka\, Kościelna\, Mielno\, Zachodnipomorskie\, 76-032 Mielno\, Poland
END:VEVENT
BEGIN:VEVENT
DTSTART;TZID=Europe/Warsaw:20240127T080000
DTEND;TZID=Europe/Warsaw:20240127T170000
DTSTAMP:20260421T080940
CREATED:20231108T155439Z
LAST-MODIFIED:20231110T095933Z
UID:3069-1706342400-1706374800@herkules.org.pl
SUMMARY:10. Ćwierćmaraton Komandosa
DESCRIPTION:TERMIN I MIEJSCE \n27 stycznia 2024 r. – Słupsk – Parafia pw. św. Jana Kantego w Słupsku\, teren\nparkingu przyparafialnego\, godz. 12.00. Trasa: Lasek Południowy Słupsk. \nPROGRAM MINUTOWY\n godz. 09.00 – 11.30 – Sekretariat zawodów (Namiot Fundacji „Sub ventum” przy Parafii pw. Św. Jana Kantego w Słupsku\, ul. Leśna 7a.\n godz. 12.00 – 10. Ćwierćmaraton Komandosa – start do biegu głównego – 10\,55 km – start ostry Kobiet.\n godz. 12.15 – 10. Ćwierćmaraton Komandosa – start do biegu głównego – 10\,55 km – start ostry Mężczyzn.\n godz. 14.00 – uroczyste podsumowanie.
URL:https://herkules.org.pl/events/10-cwiercmaraton-komandosa/
LOCATION:Słupsk\, ul. Leśna 7a\, Słupsk\, Leśna 7a\, Słupsk\, Pomorskie\, Poland
ORGANIZER;CN="Fundacja Wspierania Inicjatyw Niekonwencjonalnych %E2%80%9ESub ventum%E2%80%9D":MAILTO:darek_klos@op.pl
END:VEVENT
BEGIN:VEVENT
DTSTART;TZID=Europe/Warsaw:20231230T110000
DTEND;TZID=Europe/Warsaw:20231230T170000
DTSTAMP:20260421T080940
CREATED:20231108T153804Z
LAST-MODIFIED:20231204T153610Z
UID:3063-1703934000-1703955600@herkules.org.pl
SUMMARY:XIV Koszaliński Bieg Sylwestrowy
DESCRIPTION:bieg  – 5 km\nnordic walking – 3\,4 km\n\nI. CEL IMPREZY \n\nPromocja Miasta i Gminy Koszalin na terenie kraju.\nPopularyzacja biegania jako najbardziej naturalnej formy aktywności oraz zdrowego stylu życia.\n\nII. TERMIN I MIEJSCE \n\n30 grudnia 2023 r. – Koszalin – Hala Widowiskowo-Sportowa przy ul. Śniadeckich 4\n\nIII. PROGRAM MINUTOWY \n\ngodz. 9.00 – 10.45 – sekretariat zawodów (Hala Widowiskowo-Sportowa)\ngodz. 10:30 – bieg dzieci i młodzieży do 13 lat\ngodz. 11.00 – bieg główny 5 km\ngodz. 11.35 – nordic walking 3\,4 km\ngodz. 12.00 – uroczyste podsumowanie
URL:https://herkules.org.pl/events/xiv-koszalinski-bieg-sylwestrowy/
LOCATION:Hala Widowiskowo-Sportowa\, Śniadeckich 4\, Koszalin\, Zachodniopomorskie\, Poland
CATEGORIES:Bieganie
ATTACH;FMTTYPE=image/jpeg:https://herkules.org.pl/wp-content/uploads/2023/11/384441461_326721139911132_8477274389737534497_n.jpg
ORGANIZER;CN="Koszali%C5%84skie Towarzystwo Krzewienia Kultury Fizycznej":MAILTO:ktkkf@wp.pl
END:VEVENT
BEGIN:VEVENT
DTSTART;TZID=Europe/Warsaw:20231209T110000
DTEND;TZID=Europe/Warsaw:20231209T170000
DTSTAMP:20260421T080940
CREATED:20231108T154206Z
LAST-MODIFIED:20231108T163901Z
UID:3066-1702119600-1702141200@herkules.org.pl
SUMMARY:VIII Mikołajkowy Kross Górski z Komandorkiem u Kantego
DESCRIPTION:I CELE IMPREZY:\n1. Popularyzacja biegania i chodzenia\, jako czynnej formy wypoczynku i najprostszej formy ruchu.\n2. Wspomaganie najciężej Chorych\, w tym Chorych onkologicznie\, Dzieci z niepełnosprawnościami\, Bezdomnych i Pensjonariuszy DPS-ów.\n3. Propagowanie zdrowego stylu życia poprzez sport w subregionie słupskim. \nII ORGANIZATOR: \n Fundacja Wspierania Inicjatyw Niekonwencjonalnych „Sub ventum” \nIII Partnerzy: \n Nadleśnictwo „Leśny Dwór”\n Parafia pw. Św. Jana Kantego w Słupsku \nIV TERMIN I MIEJSCE:\n1. Data: 9 grudnia 2023 r.\n2. Miejsce: Słupsk\, Parafia pw. Św. Jana Kantego w Słupsku\n3. Bieg Główny – dystans 6 km.\n4. Nordic Walking – dystans 5 km.\n5. Biuro zawodów: Parafia pw. Św. Jana Kantego w Słupsku\n6. Biuro zawodów czynne w dniu 9.12.2023 r. w godz. 09.00-10.30.\n7. Bieg na 6 km wystartuje o godz. 11.00\, limit 1h.\n8. Nordic Waking wystartuje o godz. 11.05\, limit 1h 30min.\n9. Limit zawodników (łącznie z NW) 200 osób. \nV TRASA BIEGU:\n1. Trasa selektywna po ścieżkach Lasku Południowego w Słupsku i terenach Nadleśnictwa Leśny Dwór.\n2. Start przy Parafii pw. Św. Jana Kantego w Słupsku ul. Leśna 7a.\n3. Trasa oznakowana\, zabezpieczona.\n4. Nawierzchnia: ścieżki leśne\, płyty betonowe.\n5. Trasa: bardzo trudna\, liczne strome podbiegi i zbiegi! \nVI POMIAR CZASU:\n1. W biegu i marszu pomiar czasu i ustalenie kolejności będzie dokonywać Fundacja HERKULESallSport za pomocą chipów aktywnych.\n2. Posiadanie numeru startowego wraz z chipem jest warunkiem wystartowania w biegu i marszu oraz sklasyfikowania w komunikacie końcowym. \nVII WARUNKI UCZESTNICTWA:\n1. W zawodach prawo startu mają osoby\, które do dnia 9 grudnia 2023 r. ukończą 18 lat (osoby niepełnoletnie mogą wziąć udział w biegu lub marszu wyłącznie za pisemną zgodą rodzica lub prawnego opiekuna\, dostarczoną drogą e-mailową (scan)\, lub bezpośrednio do Biura zawodów w dniu biegu).\n2. Zawodnicy przed startem muszą zostać zweryfikowani w biurze zawodów. Weryfikacja zawodników oraz wydawanie numerów startowych odbędzie się w biurze zawodów znajdującym się przy Parafii pw. Św. Jana Kantego w Słupsku\, ul. Leśna 7a\, czynnym w godz. 09.00-10.30.\n3. Podczas weryfikacji w biurze zawodów\, zawodnik musi posiadać: dokument stwierdzający tożsamość – dowód osobisty (preferowany jest także dowód wniesienia opłaty startowej\, dla osób\, którzy dokonywali płatności w ostatnim dniu zapisów).\n4. Podczas weryfikacji zawodnik musi przedstawić aktualne zaświadczenie lekarskie o braku przeciwwskazań do udziału w biegu i marszu\nlub własnoręcznie złożyć podpis w dniu zawodów pod oświadczeniem o zdolności do udziału w biegu na własną odpowiedzialność.\n5. Każdy Zawodnik otrzyma numer startowy\, który musi być przypięty w trakcie biegu z przodu koszulki.\n6. Zawodnicy muszą przestrzegać regulaminu\, obowiązujących przepisów\, zarządzeń organizatorów oraz służb porządkowych.\n7. W przypadku przekroczenia limitu czasowego biegu i marszu\, każdy uczestnik zobowiązany jest do zejścia z trasy.\n8. Każdy z uczestników zawodów\, zobowiązany jest wystartować i ukończyć bieg w czapce Mikołaja (własnej\, lub otrzymanej w Biurze Zawodów). W innym przypadku nie będzie sklasyfikowany.\n9. W czasie trwania eventu w Biurze Zawodów zbierane będą słodycze\, oraz środki papiernicze dla dzieci (kredki\, plastelina\, kolorowanki\, książeczki\, mazaki\, piórniki\, linijki\, itp.)\, które po biegu zostaną przekazane dla dzieci z niepełnosprawnościami z SOSW Damnica oraz słodycze\, które wypełnią paczki organizowane dla osób najciężej chorych (onkologicznie)\, jak również Pensjonariuszy DPS-ów z subregionu słupskiego. \nVIII ZGŁOSZENIA I OPŁATA STARTOWA:\n1. Za zgłoszenie uważa się czytelne wypełnienie formularza umieszczonego na stronie internetowej www.biegislupsk.pl oraz wpłacenie w terminie opłaty startowej.\n2. Za termin wpłaty uważa się datę dokonania przelewu (zapisy elektroniczne aktywne do dnia 06.12.2023 r.).\n3. Opłata startowa raz wniesiona nie podlega zwrotowi! (za pisemną zgodą można przepisać pakiet).\n4. Wysokość opłaty startowej wynosi 50 złotych. Wpłaty dokonuje się poprzez system elektroniczny na stronie internetowej www.biegislupsk.pl podczas rejestracji (wygenerowany link do wpłat).\n5. W dniu zawodów opłata startowa wynosi 70 złotych.\n6. O wysokości opłaty startowej decyduje dzień\, w którym dokonywana jest transakcja\, a nie dzień zgłoszenia się do biegu.\n7. W przypadku wniesienia opłaty startowej w niewystarczającej wysokości zawodnik jest zobowiązany do dopłacenia różnicy do wysokości kwoty\, jaką winien on był wnieść zgodnie z terminem\, w jakim dokonywał swojej ostatniej wpłaty.\n8. W przypadku osiągnięcia limitu 200 osób zapisy do biegu zostają zamknięte. \nIX KLASYFIKACJA:\nKlasyfikacja generalna kobiet i mężczyzn w biegu:\n Bieg: Open K/M (I-VII) – puchary.\n Marsz: Open K/M (I-VII) – puchary.\n Najokazalsze przebranie „Mikołaja” i „Śnieżynki” – Statuetki. \nX ŚWIADCZENIA DLA ZAWODNIKÓW:\n1. W ramach opłaty startowej każdy zawodnik otrzymuje świadczenia:\n elektroniczny pomiar czasu\,\n numer startowy wraz z agrafkami\,\n opiekę medyczną (karetka) na start/mecie\,\n wodę mineralną na mecie biegu\,\n bity medal okolicznościowy na mecie dla każdego zawodnika\, który ukończył bieg/marsz\,\n ciepły posiłek-zupa\,\n ciasto\,\n kawę/herbatę\,\n czapeczkę Mikołaja\,\n możliwość uczestnictwa w losowaniu nagród w przypadku pozyskania Sponsorów. \nXI SPRAWY ORGANIZACYJNE:\n1. Szatnia i depozyt odzieży w dniu 9.12.2023 r. znajdować się będzie przy Parafii pw. Św. Jana Kantego w Słupsku\, ul. Leśna 7a.\n2. Organizator zapewnia zabezpieczenie medyczne w trakcie biegu.\n3. Po biegu nastąpi dekoracja zawodników oraz losowanie nagród dla biegaczy/kijkarzy\, w przypadku pozyskania sponsorów. \nXII POSTANOWIENIA KOŃCOWE:\n1. Bieg i marsz odbędzie się bez względu na pogodę.\n2. Organizator nie odpowiada za rzeczy zagubione i skradzione.\n3. W przypadku stwierdzenia przez Organizatora skrócenia trasy przez uczestnika\, zawodnik zostanie zdyskwalifikowany.\n4. Uczestnik startuje wyłącznie na własną odpowiedzialność i ponosi związane z tym ryzyko. Uczestnik rejestrując się do biegu lub marszu przyjmuje do wiadomości\, że udział w biegu lub marszu wiąże się z wysiłkiem fizycznym i pociąga za sobą naturalne ryzyko i zagrożenie wypadkami\, możliwość odniesienia obrażeń ciała i urazów fizycznych (w tym śmierci)\, a także szkód i strat o charakterze majątkowym.\n5. Organizator nie ubezpiecza Uczestników biegu i marszu\, natomiast uczestnikom organizator doradza\, jeżeli uznają to za konieczne\, zakup stosownego ubezpieczenia na czas udziału w imprezie biegowej.\n6. Fundacja Wspierania Inicjatyw Niekonwencjonalnych „Sub ventum” posiada ubezpieczenie OC.\n7. Uczestnik wyraża zgodę na wykorzystywanie i przetwarzanie danych osobowych zawartych w formularzu zgłoszeniowym w zakresie związanym z organizacją imprezy (zgodnie z Rozporządzeniem Parlamentu Europejskiego i Rady (UE) 2016/679 z dnia 27 kwietnia 2016 r. w sprawie ochrony osób fizycznych w związku z przetwarzaniem danych osobowych i w sprawie swobodnego przepływu takich danych oraz uchylenia dyrektywy 95/46/WE).\n8. Protesty rozstrzyga Dyrektor Organizacyjny\, Dariusz Kloskowski\, (tel. kontaktowy GSM: 602759892\, darek_klos@op.pl) – decyzje Dyrektora są nieodwołalne. Protesty będą rozstrzygane w czasie 24 godzin.\n9. Wydarzenie jest typowo rekreacyjne i charytatywne i ma na celu propagowanie zdrowego stylu życia\, stąd protesty\, reklamacje i roszczenia stanowią wtórne zagadnienie.
URL:https://herkules.org.pl/events/viii-mikolajkowy-kross-gorski-z-komandorkiem-u-kantego/
LOCATION:Słupsk\, ul. Leśna 7a\, Słupsk\, Leśna 7a\, Słupsk\, Pomorskie\, Poland
ORGANIZER;CN="Fundacja Wspierania Inicjatyw Niekonwencjonalnych %E2%80%9ESub ventum%E2%80%9D":MAILTO:darek_klos@op.pl
END:VEVENT
BEGIN:VEVENT
DTSTART;TZID=Europe/Warsaw:20231125T110000
DTEND;TZID=Europe/Warsaw:20231125T170000
DTSTAMP:20260421T080940
CREATED:20231108T165208Z
LAST-MODIFIED:20231108T165239Z
UID:3081-1700910000-1700931600@herkules.org.pl
SUMMARY:52 Bieg z Okazji Dnia Podchorążego
DESCRIPTION:Strona główna\nI. CEL IMPREZY: \n\nuczczenie rocznicy Powstania Listopadowego;\nintegracja środowisk uczelnianych;\npromocja Akademii Wojsk Lądowych imienia generała Tadeusza Kościuszki we Wrocławiu;\nwyłonienie zwycięzców indywidualnych i drużynowych.\n\nII .ORGANIZATOR: \n\nZakład Wychowania Fizycznego i Sportu Akademii Wojsk Lądowych imienia generała Tadeusza Kościuszki\nDolnośląska Organizacja Środowiskowa AZS\n\nIII. TERMIN I MIEJSCE: \n– 25.11.2023 r. (SOBOTA)\, trasy biegowe AWL przy ul. Piotra Czajkowskiego 109 we Wrocławiu \nIV. UCZESTNICTWO \nPrawo startu mają osoby\, które do 25.11.2023 r. ukończą 18 lat. Wszyscy uczestnicy muszą zostać zweryfikowani w Sekretariacie 52 Biegu z Okazji Dnia Podchorążego\, który zostanie uruchomiony w dniu 25.11.2023 r. od godz. 9:00. Do wejścia na teren AWL niezbędne jest posiadanie dowodu osobistego. \nW przypadku chęci startu w ramach DLM obowiązkowe jest okazanie legitymacji AZS jako dokumentu uprawniającego do startu w tej klasyfikacji. \nWarunkiem dopuszczenia zawodnika do biegu będzie przedstawienie podczas weryfikacji zaświadczenia lekarskiego  o  braku przeciwwskazań  do  udziału w  biegu  lub złożenie  podpisu  pod oświadczeniem    o zdolności do udziału w biegu (wzory oświadczeń będą dostępne w biurze zawodów). \nV. ZGŁOSZENIA \n\nelektroniczne: http://herkules.org.pl/\nw dniu zawodów od godz. 9.00-10.45 w miejscu startu – plac apelowy AWL. Udział w biegu jest bezpłatny!!!\n\nLimit miejsc: 300. \nVI. PROGRAM CZASOWY BIEGU PODCHORĄŻEGO: \n\n9:00  – 10:45 – zapisy do biegu – namiot (plac apelowy)\n10:45 – 11:00 – wspólna rozgrzewka\n11:00 – start do biegu na dystansie ok. 5000 metrów\n12:00 – oficjalne zakończenie zawodów\n\nVII. KLASYFIKACJA \na) generalna: kobiet i mężczyzn \nb) indywidualna: \n\nkobiet w ramach Ligi Międzyuczelnianej mężczyzn w ramach Ligi Międzyuczelnianej kobiet – studentów AWL\nmężczyzn – studentów AWL pracowników Uczelni do 40 roku życia\npracowników Uczelni powyżej 41 roku życia\nw ramach współzawodnictwa sportowego w Garnizonie Wrocław\n\nc) zespołowa \n\nkobiet w ramach Dolnośląskiej Ligi Międzyuczelnianej\nmężczyzn w ramach Dolnośląskiej Ligi Międzyuczelnianej\nw ramach współzawodnictwa sportowego w Garnizonie Wrocław\n„Puchar Rektora-Komendanta Akademii Wojsk Lądowych”
URL:https://herkules.org.pl/events/52-bieg-z-okazji-dnia-podchorazego/
LOCATION:AWL Wrocław\, Wrocław\, Piotra Czajkowskiego 109\, Wrocław\, Dolnośląskie\, 76-009\, Poland
ORGANIZER;CN="AWL Wroc%C5%82aw":MAILTO:biuro@herkules.org.pl
END:VEVENT
BEGIN:VEVENT
DTSTART;TZID=Europe/Warsaw:20231112T093000
DTEND;TZID=Europe/Warsaw:20231112T170000
DTSTAMP:20260421T080940
CREATED:20231104T181730Z
LAST-MODIFIED:20231108T164404Z
UID:2993-1699781400-1699808400@herkules.org.pl
SUMMARY:BIEG NIEPODLEGŁOŚCI
DESCRIPTION:Termin i miejsce:\n• impreza odbędzie się w dniu 12.11.2023 w Jastrowiu w miejscu startu i mety – Punkt widokowy w Jastrowiu (Koło hali sportowej ul. Kilińszczaków).\n• rejestracja zawodników wyścigu MTB w dniu zawodów i odbiór pakietów w godz. 08.00 – 09.15\, rejestracja zawodników biegu w dniu zawodów od godziny 10.00 do godziny 11\,30\n• rejestracja zawodników elektronicznie do 09.11.2023.\n• START wyścigu MTB dystans około 20 km{TEREN GÓRSKI} – godzina 9.30\,\n• START biegu dystans 10 km – godz. 12.00\,\n• START biegu dystans 5 km-godz. 12.15\,\n• START nordic walking dystans 5 km – godz. 12.20\,\n• zakończenie imprezy ok godziny 13\,30 (wręczenie pucharów i losowanie nagród)\,\n• bieg i przeprowadzony zostanie na terenie Nadleśnictwa Jastrowie w obrębie sosnowej góry w Jastrowiu.
URL:https://herkules.org.pl/events/bieg-niepodleglosci/
LOCATION:Punkt widokowy\, Jastrowie\, Punkt widokowy\, Kilińszczaków\, Jastrowie\, Wielkopolskie\, Poland
ORGANIZER;CN="Stowarzyszenie Pozytywni z Pasj%C4%85 Jastrowie":MAILTO:pozytywnizpasja@gmail.com
END:VEVENT
END:VCALENDAR