BEGIN:VCALENDAR
VERSION:2.0
PRODID:-//Herkules - Pomiar Czasu - ECPv6.15.20//NONSGML v1.0//EN
CALSCALE:GREGORIAN
METHOD:PUBLISH
X-WR-CALNAME:Herkules - Pomiar Czasu
X-ORIGINAL-URL:https://herkules.org.pl
X-WR-CALDESC:Wydarzenia dla Herkules - Pomiar Czasu
REFRESH-INTERVAL;VALUE=DURATION:PT1H
X-Robots-Tag:noindex
X-PUBLISHED-TTL:PT1H
BEGIN:VTIMEZONE
TZID:Europe/Warsaw
BEGIN:DAYLIGHT
TZOFFSETFROM:+0100
TZOFFSETTO:+0200
TZNAME:CEST
DTSTART:20230326T010000
END:DAYLIGHT
BEGIN:STANDARD
TZOFFSETFROM:+0200
TZOFFSETTO:+0100
TZNAME:CET
DTSTART:20231029T010000
END:STANDARD
BEGIN:DAYLIGHT
TZOFFSETFROM:+0100
TZOFFSETTO:+0200
TZNAME:CEST
DTSTART:20240331T010000
END:DAYLIGHT
BEGIN:STANDARD
TZOFFSETFROM:+0200
TZOFFSETTO:+0100
TZNAME:CET
DTSTART:20241027T010000
END:STANDARD
BEGIN:DAYLIGHT
TZOFFSETFROM:+0100
TZOFFSETTO:+0200
TZNAME:CEST
DTSTART:20250330T010000
END:DAYLIGHT
BEGIN:STANDARD
TZOFFSETFROM:+0200
TZOFFSETTO:+0100
TZNAME:CET
DTSTART:20251026T010000
END:STANDARD
END:VTIMEZONE
BEGIN:VEVENT
DTSTART;TZID=Europe/Warsaw:20241005T110000
DTEND;TZID=Europe/Warsaw:20241005T170000
DTSTAMP:20260421T051945
CREATED:20240617T203416Z
LAST-MODIFIED:20240617T203416Z
UID:3372-1728126000-1728147600@herkules.org.pl
SUMMARY:DOLNOŚLĄSKI FESTIWAL NORDIC WALKING 2024 – JAKUSZYCE 8/8
DESCRIPTION:Marsze rekreacyjne odbywać się będą na dystansie ok. 2\,5\, 5 oraz 10 km. Mapka tras marszu zostanie opublikowana po dokonaniu uzgodnień z gminami uczestniczącymi w projekcie.
URL:https://herkules.org.pl/events/dolnoslaski-festiwal-nordic-walking-2024-jakuszyce-8-8/
LOCATION:Jakuszyce\, Jakuszyce\, Dolnośląskie\, Poland
CATEGORIES:Nordic Walking
ORGANIZER;CN="Stowarzyszenie 'Aktywni Zag%C5%82%C4%99bia Miedziowego'":MAILTO:aktywnizm@wp.pl
END:VEVENT
BEGIN:VEVENT
DTSTART;TZID=Europe/Warsaw:20241005T110000
DTEND;TZID=Europe/Warsaw:20241005T110000
DTSTAMP:20260421T051945
CREATED:20240603T134653Z
LAST-MODIFIED:20240603T135002Z
UID:3336-1728126000-1728126000@herkules.org.pl
SUMMARY:CHARYTATYWNY BIEG “POLIGON na START”
DESCRIPTION:Bieg odbędzie się w dniu 5 października 2024 roku (sobota) na terenie Centrum Szkolenia Bojowego Drawsko (poligon drawski) na dwóch dystansach: „Tajemniczy Zły Łęg” 20+ oraz „Dolina Romana”10+
URL:https://herkules.org.pl/events/charytatywny-bieg-poligon-na-start/
LOCATION:CSB Drawsko\, Centrum Szkolenia Bojowego Drawsko\, Drawsko Pomorskie\, Zachodniopomorskie\, 78-500\, Poland
CATEGORIES:Bieganie
ORGANIZER;CN="WKS Poligon Drawski":MAILTO:grzegorzskurczynski@interia.pl
END:VEVENT
BEGIN:VEVENT
DTSTART;TZID=Europe/Warsaw:20240929T110000
DTEND;TZID=Europe/Warsaw:20240929T170000
DTSTAMP:20260421T051945
CREATED:20240425T181221Z
LAST-MODIFIED:20240515T164600Z
UID:3298-1727607600-1727629200@herkules.org.pl
SUMMARY:Wyścig MTB "Dzikie Szaleństwo Ziemi Debrzeńskiej"
DESCRIPTION:Wyścig odbędzie się 29 września 2024 r. (niedziela) o godz.11.00 w Debrznie na terenie  nad Jeziorem Żuczek\, na trasie wyznaczonej przez organizatora (MINI – dwa okrążenia po ok.10 km każde dla kobiet i mężczyzn oraz MEGA – cztery okrążenia na tej samej trasie dla mężczyzn).
URL:https://herkules.org.pl/events/wyscig-mtb-dzikie-szalenstwo-ziemi-debrzenskiej/
LOCATION:Ośrodek Rekreacyjno-Wypoczynkowy nad Jeziorem Żuczek\, Spacerowa 1\, Debrzno\, Pomorskie\, 77-310
CATEGORIES:MTB
ATTACH;FMTTYPE=image/jpeg:https://herkules.org.pl/wp-content/uploads/2024/04/200x80_mtb24v2.jpg
END:VEVENT
BEGIN:VEVENT
DTSTART;TZID=Europe/Warsaw:20240929T093000
DTEND;TZID=Europe/Warsaw:20240929T140000
DTSTAMP:20260421T051945
CREATED:20240520T172554Z
LAST-MODIFIED:20240520T172954Z
UID:3312-1727602200-1727618400@herkules.org.pl
SUMMARY:I Dzika Piątka - bieg przełajowy
DESCRIPTION:Bieg odbędzie się 29 września 2024 r. (niedziela) o godz.9.30 w Debrznie na terenie Ośrodka Rekreacyjno – Wypoczynkowego nad Jeziorem Żuczek\, na trasie o długości 5\,5 km wyznaczonej przez organizatora.
URL:https://herkules.org.pl/events/bieg-przelajowy-i-dzika-piatka/
LOCATION:Ośrodek Rekreacyjno-Wypoczynkowy nad Jeziorem Żuczek\, Spacerowa 1\, Debrzno\, Pomorskie\, 77-310
CATEGORIES:Bieganie
ATTACH;FMTTYPE=image/jpeg:https://herkules.org.pl/wp-content/uploads/2024/04/200x80_mtb24v2.jpg
END:VEVENT
BEGIN:VEVENT
DTSTART;TZID=Europe/Warsaw:20240928T090000
DTEND;TZID=Europe/Warsaw:20240929T170000
DTSTAMP:20260421T051945
CREATED:20240228T185843Z
LAST-MODIFIED:20240228T185843Z
UID:3274-1727514000-1727629200@herkules.org.pl
SUMMARY:Róża Wiatrów Jeziora Mausz BIEG I RAJD NORDIC WALKING
DESCRIPTION:TERMIN I MIEJSCE: \n\n28 września 2024 r. (sobota) 83-320 Kłodno\nStart i meta: Siedlisko Kłodno 83-320 Kłodno 6a\nBiuro zawodów czynne w dniu zawodów w godz. 07:00 – 15:00\n\nDystanse: \nPółmaraton i Nordic Walking  21 km \n\nlimit czasu: 4 godziny\nstart: godzina 11:00\njedna pętla wokół Jeziora Mausz\n\nMaraton i Nordic Walking  42 km \n\nlimit czasu: 7 godzin\nstart: godzina 09:00\ndwie pętle wokół Jeziora Mausz\nPROGRAM SZCZEGÓŁOWY \n \n\n07:00 – Otwarcie biura zawodów weryfikacja zawodników.\n09:00 – Start Maraton i Nordic Walking  42 km\n11:00 –  Start Półmaraton i Nordic Walking  21 km\n15:00 – Dekoracja zwycięzców. Losowanie nagród
URL:https://herkules.org.pl/events/roza-wiatrow-jeziora-mausz-bieg-i-rajd-nordic-walking/
LOCATION:Kłodno 6a\, 83-320 Kłodno\, Poland\, Kłodno 6a\, 83-320 Kłodno\, Poland\, Kłodno\, Pomorskie\, 83-320\, Poland
CATEGORIES:Bieganie,Nordic Walking
END:VEVENT
BEGIN:VEVENT
DTSTART;TZID=Europe/Warsaw:20240928T080000
DTEND;TZID=Europe/Warsaw:20240928T170000
DTSTAMP:20260421T051945
CREATED:20231110T110236Z
LAST-MODIFIED:20231202T121632Z
UID:3109-1727510400-1727542800@herkules.org.pl
SUMMARY:ENEA POLISH NORDIC WALKING CUP - 6/6
DESCRIPTION:Termin i miejsce: \n\n28 września- Potęgowo ( Stadion TS Potęgowo )\n\nProgram minutowy: \n\n9:30 – 12:30 – działalność biura zawodów\n10:45 – uroczyste otwarcie\n10:50 – wspólna rozgrzewka 10km\n11:00 – START 10 km\n12:45 – wspólna rozgrzewka 5km\n13:00 – START 5 km\n14:30 – dekoracje\n15.00 – zamknięcie wydarzenia
URL:https://herkules.org.pl/events/enea-polish-nordic-walking-cup-6-6/
LOCATION:Potęgowo stadion TS potęgowo\, Stadion TS Potęgowo\, Potęgowo\, Pomorskie\, 76-230\, Poland
CATEGORIES:Nordic Walking
ATTACH;FMTTYPE=image/png:https://herkules.org.pl/wp-content/uploads/2023/11/Potegowo.png
ORGANIZER;CN="Polskie Zrzeszenie Nordic Walking":MAILTO:http://pznw.org.pl/pznw/
END:VEVENT
BEGIN:VEVENT
DTSTART;TZID=Europe/Warsaw:20240922T120000
DTEND;TZID=Europe/Warsaw:20240922T160000
DTSTAMP:20260421T051945
CREATED:20240912T143620Z
LAST-MODIFIED:20240912T143620Z
UID:3410-1727006400-1727020800@herkules.org.pl
SUMMARY:Velo Baltic Koszalin
DESCRIPTION:Wyścig kolarski w Koszalinie.
URL:https://herkules.org.pl/events/velo-baltic-koszalin/
LOCATION:Koszalin\, BoWiD 24\, Koszalin\, Zachodniopomorskie\, 75-401\, Poland
CATEGORIES:Kolarstwo
END:VEVENT
BEGIN:VEVENT
DTSTART;TZID=Europe/Warsaw:20240922T113000
DTEND;TZID=Europe/Warsaw:20240922T150000
DTSTAMP:20260421T051945
CREATED:20240810T111247Z
LAST-MODIFIED:20240816T145450Z
UID:3405-1727004600-1727017200@herkules.org.pl
SUMMARY:VIII Sosnowicki Rajd na Sześciu Łapach
DESCRIPTION:9:00 – 11:00 rejestracja i odprawa uczestników;\n11:00 Otwarcie Rajdu\n11:30 Starty zawodników;\n12:30 – 13:30 integracja\, ognisko\, catering\, gry dla dzieci\, stoiska charytatywne i partnerskie\n13.30 – 14.30 wręczenie nagród\, zakończenie zawodów.
URL:https://herkules.org.pl/events/viii-sosnowicki-rajd-na-szesciu-lapach/
LOCATION:Schronisko dla Bezdomnych Zwierząt Sosnowice\, Sosnowice\, Sosnowice\, Zachodniopomorskie\, 72-401\, Poland
CATEGORIES:Bieganie
ORGANIZER;CN="Komunalne Schronisko dla Bezdomnych Zwierz%C4%85t w Sosnowicach":MAILTO:schronisko@golczewo.pl
END:VEVENT
BEGIN:VEVENT
DTSTART;TZID=Europe/Warsaw:20240921T130000
DTEND;TZID=Europe/Warsaw:20240921T170000
DTSTAMP:20260421T051945
CREATED:20240801T121914Z
LAST-MODIFIED:20240801T121914Z
UID:3397-1726923600-1726938000@herkules.org.pl
SUMMARY:Bieg Charytatywny
DESCRIPTION:Impreza charytatywna bieg rozgrywany na dystansie 6\,5km oraz nordic walking na dystansie 3km.
URL:https://herkules.org.pl/events/bieg-charytatywny/
LOCATION:Krajenka\, Szkolna 17\, Krajenka\, Zachodniopomorskie\, 77-430\, Poland
CATEGORIES:Bieganie,Nordic Walking
ORGANIZER;CN="Urz%C4%85d Miasta i Gminy Krajenka":MAILTO:aktywnakrajenka@gmail.com
END:VEVENT
BEGIN:VEVENT
DTSTART;TZID=Europe/Warsaw:20240921T110000
DTEND;TZID=Europe/Warsaw:20240921T170000
DTSTAMP:20260421T051945
CREATED:20240703T180644Z
LAST-MODIFIED:20240703T180644Z
UID:3384-1726916400-1726938000@herkules.org.pl
SUMMARY:Polish Nordic Walking Cup 5/6
DESCRIPTION:Rywalizacja na dystansie 5km oraz 10km. Dla dzieci Mini Nordic Walking 400m.
URL:https://herkules.org.pl/events/polish-nordic-walking-cup-5-6/
LOCATION:Hajnówka\, Kolejki Leśne 12\, Hajnówka\, Podlaskie\, 17-200
CATEGORIES:Nordic Walking
ORGANIZER;CN="Polskie Zrzeszenie Nordic Walking":MAILTO:http://pznw.org.pl/pznw/
END:VEVENT
BEGIN:VEVENT
DTSTART;TZID=Europe/Warsaw:20240921T090000
DTEND;TZID=Europe/Warsaw:20240921T170000
DTSTAMP:20260421T051945
CREATED:20240703T180023Z
LAST-MODIFIED:20240703T180023Z
UID:3380-1726909200-1726938000@herkules.org.pl
SUMMARY:VII Bieg Rybaka
DESCRIPTION:Wprowadza się łączny limit zawodników 250 osób dla biegu głównego i towarzyszącego oraz marszu nordic walking. Udział w biegach dziecięcych i młodzieżowych bez limitu.
URL:https://herkules.org.pl/events/vii-bieg-rybaka/
LOCATION:Czaplinek\, Rynek Miejski\, Czaplinek\, Zachodniopomorskie\, Poland
CATEGORIES:Bieganie
ORGANIZER;CN="Stowarzyszenie Sportowe Grupa Biegowa Rundorfina":MAILTO:+48 694 118 966
END:VEVENT
BEGIN:VEVENT
DTSTART;TZID=Europe/Warsaw:20240918T170000
DTEND;TZID=Europe/Warsaw:20240918T210000
DTSTAMP:20260421T051945
CREATED:20240228T193900Z
LAST-MODIFIED:20240228T193900Z
UID:3286-1726678800-1726693200@herkules.org.pl
SUMMARY:VIII OTWARTE MISTRZOSTWA KOSZALINA - 5km
DESCRIPTION: TERMIN I MIEJSCE \n18 września 2024 roku. Stadion „Bałtyk” przy ulicy Stawisińskiego w Koszalinie \nPROGRAM MINUTOWY \n\ngodz. 18.15 – odprawa techniczna i wydanie chipów oraz numerków startowych.\ngodz. 18.45 –  Start I seria (kobiety oraz mężczyźni 60+)\ngodz. 19.30 –  Start II seria (mężczyźni biegający powyżej 20 min)\ngodz. 20.15 –  start III seria ( mężczyźni biegający poniżej 20 min))\ngodz. 20.40 – ceremonia wręczenia nagród
URL:https://herkules.org.pl/events/viii-otwarte-mistrzostwa-koszalina-5km/
LOCATION:Władysława Andersa 16\, 75-015 Koszalin\, Poland\, Stadion "Bałtyk" przy ulicy Stawisińskiego w Koszalinie\, Koszalin\, Zachodniopomorskie\, 75-015\, Poland
CATEGORIES:Bieganie
ORGANIZER;CN="Koszali%C5%84skie Towarzystwo Krzewienia Kultury Fizycznej":MAILTO:ktkkf@wp.pl
END:VEVENT
BEGIN:VEVENT
DTSTART;TZID=Europe/Warsaw:20240915T110000
DTEND;TZID=Europe/Warsaw:20240915T170000
DTSTAMP:20260421T051945
CREATED:20240617T203201Z
LAST-MODIFIED:20240617T203201Z
UID:3369-1726398000-1726419600@herkules.org.pl
SUMMARY:DOLNOŚLĄSKI FESTIWAL NORDIC WALKING 2024 – GRĘBOCICE OBISZÓW 7/8
DESCRIPTION:Marsze rekreacyjne odbywać się będą na dystansie ok. 2\,5\, 5 oraz 10 km. Mapka tras marszu zostanie opublikowana po dokonaniu uzgodnień z gminami uczestniczącymi w projekcie.
URL:https://herkules.org.pl/events/dolnoslaski-festiwal-nordic-walking-2024-grebocice-obiszow-7-8/
LOCATION:GRĘBOCICE OBISZÓW\, GRĘBOCICE OBISZÓW\, Dolnośląskie\, Poland
CATEGORIES:Nordic Walking
ORGANIZER;CN="Stowarzyszenie 'Aktywni Zag%C5%82%C4%99bia Miedziowego'":MAILTO:aktywnizm@wp.pl
END:VEVENT
BEGIN:VEVENT
DTSTART;TZID=Europe/Warsaw:20240907T140000
DTEND;TZID=Europe/Warsaw:20240907T170000
DTSTAMP:20260421T051945
CREATED:20240704T083657Z
LAST-MODIFIED:20240704T083657Z
UID:3387-1725717600-1725728400@herkules.org.pl
SUMMARY:Bieg Wilczym Tropem
DESCRIPTION:Stowarzyszenie ” Nasza Świerczyna” oraz Nadleśnictwo Świerczyna serdecznie zaprasza wszystkich miłośników biegania oraz amatorów Nordic Walking na „Bieg Wilczym Tropem”\, który odbędzie się o godzinie 14.00 (biegi dla dzieci o godz 13.15)  7 września 2024 roku w Świerczynie ( Leśna Szkoła pod Dębami \,okolice miejscowości Otrzep).
URL:https://herkules.org.pl/events/bieg-wilczym-tropem/
LOCATION:Leśna Szkoła pod Dębami \,okolice miejscowości Otrzep\, Leśna Szkoła pod Dębami\, Wierzchowo\, Zachodnipomorskie\, 78-530\, Poland
CATEGORIES:Bieganie,Nordic Walking
END:VEVENT
BEGIN:VEVENT
DTSTART;TZID=Europe/Warsaw:20240831T110000
DTEND;TZID=Europe/Warsaw:20240831T170000
DTSTAMP:20260421T051945
CREATED:20240617T202914Z
LAST-MODIFIED:20240617T202914Z
UID:3366-1725102000-1725123600@herkules.org.pl
SUMMARY:DOLNOŚLĄSKI FESTIWAL NORDIC WALKING 2024 – PROCHOWICE 6/8
DESCRIPTION:Marsze rekreacyjne odbywać się będą na dystansie ok. 2\,5\, 5 oraz 10 km. Mapka tras marszu zostanie opublikowana po dokonaniu uzgodnień z gminami uczestniczącymi w projekcie.
URL:https://herkules.org.pl/events/dolnoslaski-festiwal-nordic-walking-2024-prochowice-6-8/
LOCATION:Prochowice\, Prochowice\, Dolnośląskie\, Poland
CATEGORIES:Nordic Walking
ORGANIZER;CN="Stowarzyszenie 'Aktywni Zag%C5%82%C4%99bia Miedziowego'":MAILTO:aktywnizm@wp.pl
END:VEVENT
BEGIN:VEVENT
DTSTART;TZID=Europe/Warsaw:20240831T110000
DTEND;TZID=Europe/Warsaw:20240831T170000
DTSTAMP:20260421T051945
CREATED:20231221T145149Z
LAST-MODIFIED:20231221T145332Z
UID:3216-1725102000-1725123600@herkules.org.pl
SUMMARY:X CROSS NA WRZOSACH
DESCRIPTION:Bieg po terenie Rezerwatu Przyrody Wrzosowiska w Okonku\nStart: 31.08.2024 r.\n– godz. 11.00 – bieg na dystansie 10 km\n– godz. 11.05 – bieg na dystansie 5 km\n– godz. 11.06 – nordic walking 5 km
URL:https://herkules.org.pl/events/x-cross-na-wrzosach/
LOCATION:Wrzosowiska Okonek\, Rezerwat Przyrody Wrzosowiska\, Okonek\, Zachodniopomorskie\, 64-965\, Poland
CATEGORIES:Bieganie
ATTACH;FMTTYPE=image/png:https://herkules.org.pl/wp-content/uploads/2023/12/Kopia_zapasowa_Banerki_2024.png
ORGANIZER;CN="Fundacja Herkules All Sports":MAILTO:biuro@herkules.org.pl
END:VEVENT
BEGIN:VEVENT
DTSTART;TZID=Europe/Warsaw:20240825T090000
DTEND;TZID=Europe/Warsaw:20240825T170000
DTSTAMP:20260421T051945
CREATED:20240724T181945Z
LAST-MODIFIED:20240724T181945Z
UID:3392-1724576400-1724605200@herkules.org.pl
SUMMARY:V BIEG BEZ SPINY
DESCRIPTION:Bieg Główny na dystansie 10km\, II Bieg bez Spinki – biegi dziecięco-młodzieżowe na różnych dystansach – od 100 do 1.000 m oraz nordic walking.
URL:https://herkules.org.pl/events/v-bieg-bez-spiny/
LOCATION:Niemica\, Niemica 31\, Malechowo\, Zachodniopomorskie\, 76-142\, Poland
CATEGORIES:Bieganie
ORGANIZER;CN="Gmina Malechowo":MAILTO:kultura@malechowo.pl
END:VEVENT
BEGIN:VEVENT
DTSTART;TZID=Europe/Warsaw:20240817T110000
DTEND;TZID=Europe/Warsaw:20240817T170000
DTSTAMP:20260421T051945
CREATED:20240617T202608Z
LAST-MODIFIED:20240617T202608Z
UID:3363-1723892400-1723914000@herkules.org.pl
SUMMARY:DOLNOŚLĄSKI FESTIWAL NORDIC WALKING 2024 – LEGNICA 5/8
DESCRIPTION:Marsze rekreacyjne odbywać się będą na dystansie ok. 2\,5\, 5 oraz 10 km. Mapka tras marszu zostanie opublikowana po dokonaniu uzgodnień z gminami uczestniczącymi w projekcie.
URL:https://herkules.org.pl/events/dolnoslaski-festiwal-nordic-walking-2024-legnica-5-8/
LOCATION:Legnica\, Legnica
CATEGORIES:Nordic Walking
ORGANIZER;CN="Stowarzyszenie 'Aktywni Zag%C5%82%C4%99bia Miedziowego'":MAILTO:aktywnizm@wp.pl
END:VEVENT
BEGIN:VEVENT
DTSTART;VALUE=DATE:20240816
DTEND;VALUE=DATE:20240819
DTSTAMP:20260421T051945
CREATED:20231204T154153Z
LAST-MODIFIED:20231204T154641Z
UID:3201-1723766400-1724025599@herkules.org.pl
SUMMARY:DZIKI WEEKEND 2024
DESCRIPTION:Festiwal Biegów odbędą się w dniach 16-18 sierpnia 2024 r. w miejscowości m. Police\, woj. zachodniopomorskie\nSTART oraz META wszystkich biegów: polana oddalona o 100 metrów od stadionu LA\, ul. Piaskowa 99 w Policach. \n\n16.08.2024r.  – START Biegu Głównego\n\ngodz. 21:45 oraz Nordic Walking godz. 21:50 \, XIV „Nocny Bieg Szlakiem Dzika” – 5km (wymagane czołówki lub inne źródło oświetlenia) \n\n17.08.2024r.  – START Biegu Głównego\n\ngodz. 12:00\, XIV „Bieg Szlakiem Dzika” przełajowy dys. 10km. \n\n18.08.2024r. – START Biegu Głównego\n\ngodz. 11:10 – 13:45\, X „Ekstremalny Dzikobieg” trasa z przeszkodami na dystansie 7\,5km\, towarzyszy  X edycja ”Mistrzostw Polski Służb Mundurowych” w biegu ekstremalnym na 7\,5 kilometra.
URL:https://herkules.org.pl/events/dziki-weekend-2024/
LOCATION:Police
CATEGORIES:Bieganie
ATTACH;FMTTYPE=image/png:https://herkules.org.pl/wp-content/uploads/2023/12/Dziki.png
END:VEVENT
BEGIN:VEVENT
DTSTART;TZID=Europe/Warsaw:20240811T080000
DTEND;TZID=Europe/Warsaw:20240811T170000
DTSTAMP:20260421T051945
CREATED:20240527T100037Z
LAST-MODIFIED:20240527T100037Z
UID:3321-1723363200-1723395600@herkules.org.pl
SUMMARY:BIEG WOLNOŚCI
DESCRIPTION:Impreza odbędzie się w dniu 11.08 2024 r. w Jastrowiu w miejscu startu i mety – pole piknikowe przy ulicy Wojska Polskiego\, rejestracja zawodników rajdu MTB w dniu zawodów w godz. 08.00 – 08.45\, rejestracja zawodników biegu w dniu zawodów od godziny 10.00 do godziny 10.45\, rejestracja zawodników elektronicznie do 09.08.2024 r.
URL:https://herkules.org.pl/events/bieg-wolnosci/
LOCATION:Pole Piknikowe\, ul. Wojska Polskiego\, Jastrowie\, Wielkopolskie\, Poland
CATEGORIES:Bieganie,MTB,Nordic Walking
ORGANIZER;CN="Stowarzyszenie Pozytywni z Pasj%C4%85 Jastrowie":MAILTO:pozytywnizpasja@gmail.com
END:VEVENT
BEGIN:VEVENT
DTSTART;TZID=Europe/Warsaw:20240803T110000
DTEND;TZID=Europe/Warsaw:20240803T170000
DTSTAMP:20260421T051945
CREATED:20240617T202309Z
LAST-MODIFIED:20240617T202309Z
UID:3360-1722682800-1722704400@herkules.org.pl
SUMMARY:DOLNOŚLĄSKI FESTIWAL NORDIC WALKING 2024 – ŚCINAWA 4/8
DESCRIPTION:Marsze rekreacyjne odbywać się będą na dystansie ok. 2\,5\, 5 oraz 10 km. Mapka tras marszu zostanie opublikowana po dokonaniu uzgodnień z gminami uczestniczącymi w projekcie.
URL:https://herkules.org.pl/events/dolnoslaski-festiwal-nordic-walking-2024-scinawa-4-8/
LOCATION:Scinawa\, Ścinawa\, Dolnośląskie
CATEGORIES:Nordic Walking
ORGANIZER;CN="Stowarzyszenie 'Aktywni Zag%C5%82%C4%99bia Miedziowego'":MAILTO:aktywnizm@wp.pl
END:VEVENT
BEGIN:VEVENT
DTSTART;TZID=Europe/Warsaw:20240802T080000
DTEND;TZID=Europe/Warsaw:20240804T170000
DTSTAMP:20260421T051945
CREATED:20240614T124604Z
LAST-MODIFIED:20240614T124604Z
UID:3342-1722585600-1722790800@herkules.org.pl
SUMMARY:PLANET BALTIC SUP RACE™ 2024
DESCRIPTION:Przygotowanie PBSRTM to dla nas równie ekscytujący czas jak i same zawody. Wykorzystujemy wasze sugestie i nasze doświadczenie z organizacji i startów w regatach żeglarskich rangi mistrzostw świata\, kontynentalnych i krajowych
URL:https://herkules.org.pl/events/planet-baltic-sup-race-2024/
LOCATION:Latarnia Morska w Kołobrzegu\, Morska 1\, Kołobrzeg\, Zachodniopomorskie\, 78-100\, Poland
CATEGORIES:SUP
ORGANIZER;CN="Akademia Sport%C3%B3w Wodnych mksailing.pl":MAILTO:mk@mksailing.pl
END:VEVENT
BEGIN:VEVENT
DTSTART;TZID=Europe/Warsaw:20240727T110000
DTEND;TZID=Europe/Warsaw:20240727T170000
DTSTAMP:20260421T051945
CREATED:20240617T202050Z
LAST-MODIFIED:20240617T202050Z
UID:3357-1722078000-1722099600@herkules.org.pl
SUMMARY:DOLNOŚLĄSKI FESTIWAL NORDIC WALKING 2024 – GŁOGÓW 3/8
DESCRIPTION:Marsze rekreacyjne odbywać się będą na dystansie ok. 2\,5\, 5 oraz 10 km. Mapka tras marszu zostanie opublikowana po dokonaniu uzgodnień z gminami uczestniczącymi w projekcie.
URL:https://herkules.org.pl/events/dolnoslaski-festiwal-nordic-walking-2024-glogow-3-8/
LOCATION:Głogów\, Głogów\, Dolnośląskie\, Poland
CATEGORIES:Nordic Walking
ORGANIZER;CN="Stowarzyszenie 'Aktywni Zag%C5%82%C4%99bia Miedziowego'":MAILTO:aktywnizm@wp.pl
END:VEVENT
BEGIN:VEVENT
DTSTART;TZID=Europe/Warsaw:20240720T150000
DTEND;TZID=Europe/Warsaw:20240720T170000
DTSTAMP:20260421T051945
CREATED:20240701T121400Z
LAST-MODIFIED:20240701T121400Z
UID:3376-1721487600-1721494800@herkules.org.pl
SUMMARY:III KALISKA BECZKA
DESCRIPTION:Limit uczestników wynosi 200 osób (liczba ta może ulec zmianie). Zapisów dokonywać można do dnia 17.07.2024 r. (data ta może ulec zmianie). Miejsce w limicie uczestników zapewnia data rejestracji i dostępność miejsc startowych.
URL:https://herkules.org.pl/events/iii-kaliska-beczka/
LOCATION:Stadion Sportowy\, ul. Suchowska 10\, Kalisz Pomorski\, Zachodniopomorskie\, Poland
CATEGORIES:Bieganie,Nordic Walking
ORGANIZER;CN="Gmina Kalisz Pomorski":MAILTO:kaliskabeczka@wp.pl
END:VEVENT
BEGIN:VEVENT
DTSTART;TZID=Europe/Warsaw:20240720T080000
DTEND;TZID=Europe/Warsaw:20240720T170000
DTSTAMP:20260421T051945
CREATED:20231110T111112Z
LAST-MODIFIED:20231202T121455Z
UID:3115-1721462400-1721494800@herkules.org.pl
SUMMARY:ENEA POLISH NORDIC WALKING CUP - 4/6
DESCRIPTION:Termin i miejsce: \n\n20.07 – Wągrowiec ( ul. Kościuszki 59 )\n\nProgram minutowy: \n\n9:30 – 12:30 – działalność biura zawodów\n11:00 – START 10 km\n12:45 – wspólna rozgrzewka 5km\n12:50 – uroczyste otwarcie\n13:00 – START 5 km\n10:00 – Mini Nordic Walking (dzieci do 8 lat) – 400 m\n14:30 – dekoracje\n15.00 – zamknięcie wydarzenia
URL:https://herkules.org.pl/events/enea-polish-nordic-walking-cup-4-6/
LOCATION:Wągrowiec ( ul. Kościuszki 59 )\, ul. Kościuszki 59\, Wągrowiec\, Wielkopolskie\, 62-100\, Poland
CATEGORIES:Nordic Walking
ATTACH;FMTTYPE=image/png:https://herkules.org.pl/wp-content/uploads/2023/11/Wagrowiec.png
ORGANIZER;CN="Polskie Zrzeszenie Nordic Walking":MAILTO:http://pznw.org.pl/pznw/
END:VEVENT
BEGIN:VEVENT
DTSTART;TZID=Europe/Warsaw:20240713T110000
DTEND;TZID=Europe/Warsaw:20240713T170000
DTSTAMP:20260421T051945
CREATED:20240617T201412Z
LAST-MODIFIED:20240617T201426Z
UID:3352-1720868400-1720890000@herkules.org.pl
SUMMARY:DOLNOŚLĄSKI FESTIWAL NORDIC WALKING 2024 – RĘCZYN 2/8
DESCRIPTION:Marsze rekreacyjne odbywać się będą na dystansie ok. 2\,5\, 5 oraz 10 km. Mapka tras marszu zostanie opublikowana po dokonaniu uzgodnień z gminami uczestniczącymi w projekcie.
URL:https://herkules.org.pl/events/dolnoslaski-festiwal-nordic-walking-2024-radwanice-1-8-2/
LOCATION:Zalew Witka\, Ręczyn\, Ręczyn\, Dolnośląskie\, 59-900\, Poland
CATEGORIES:Nordic Walking
ORGANIZER;CN="Stowarzyszenie 'Aktywni Zag%C5%82%C4%99bia Miedziowego'":MAILTO:aktywnizm@wp.pl
END:VEVENT
BEGIN:VEVENT
DTSTART;TZID=Europe/Warsaw:20240713T110000
DTEND;TZID=Europe/Warsaw:20240713T170000
DTSTAMP:20260421T051945
CREATED:20240228T183944Z
LAST-MODIFIED:20240228T183944Z
UID:3269-1720868400-1720890000@herkules.org.pl
SUMMARY:Bieg Bycia – Byciowanie na tartanie na 5 000 m
DESCRIPTION:Termin i miejsce : \n\n13.07.2024 r. Miejsce – bieżnia tartanowa na stadionie lekkoatletycznym w Bytowie ul . Brzozowa\nStart biegu głównego na dystansie 5 000m następować będzie w seriach  od 11:00\nZawodnik zostaje przydzielony do danej serii na podstawie kategorii wiekowej i czasu podanego podczas zapisów\nKażda seria liczyć będzie 25 zawodników\nPlanuje się przeprowadzić 6 serii\nOdstępy między startami kolejnych serii wynosić będą ok 45 minut\nProgram minutowy zostanie opublikowany na kilka dni przed imprezą\nTrasa 12\,5 okrążenia stadionu lekkoatletycznego mierzącego 400 m\nDodatkowo zostaną rozegrane biegi dzieci \,które objęte są osobnym regulaminem\n\nLimit czasu : \n\nZawodników obowiązuję limit czasu wynoszący 40 minut.\nUczestnicy \, którzy nie ukończą biegu we wskazanym czasie \, zobowiązani są do przerwania biegu i zejścia . W tym przypadku nie przysługuje im prawo do uzyskania medalu\n\nW zawodach może wziąć udział każdy pełnoletni zawodnik \, który zgłosi się do biegu przy pomocy formularza zgłoszeniowego \, wniesie opłatę wpisów\n\nKlasyfikacja końcowa : \n\nKategoria open kobiet mężczyzn\nKategorie wiekowe :\n\nK/M 20 (18 -29) \nK/M 30 (30 -39) \nKM  40 (40 -49) \nK/M 50 (50 -59) \nK/M 60( 60 -69) \nK/M 70(70 lat i więcej) \n\nO przynależności do poszczególnych kategorii wiekowych decyduje rok urodzenia
URL:https://herkules.org.pl/events/bieg-bycia-byciowanie-na-tartanie-na-5-000-m/
LOCATION:Stadion lekkoatletyczny w Bytowie ul. Brzozowa 12\, Stadion lekkoatletyczny w Bytowie ul. Brzozowa\, Bytów\, Pomorskie\, 77-100\, Poland
CATEGORIES:Bieganie
ORGANIZER;CN="Klub Biegacza %2C%2CGOCH 'Byt%C3%B3w ul. Zwyci%C4%99stwa 16 /5%2C 77-100 Byt%C3%B3w":MAILTO:maratonczyk@wp.pl
END:VEVENT
BEGIN:VEVENT
DTSTART;TZID=Europe/Warsaw:20240706T080000
DTEND;TZID=Europe/Warsaw:20240706T150000
DTSTAMP:20260421T051945
CREATED:20231110T111507Z
LAST-MODIFIED:20231202T121138Z
UID:3118-1720252800-1720278000@herkules.org.pl
SUMMARY:IV OTWARTE GÓRSKIE MISTRZOSTWA POLSKI / ENEA POLISH NORDIC WALKING CUP - 3/6
DESCRIPTION:Termin i miejsce: \n\n06.07.2024 r. – Polanica Zdrój – Park Szachowy\n\nProgram minutowy: \n\n9:30 – 12:30 – działalność biura zawodów\n10:45 – uroczyste otwarcie\n10:50 – wspólna rozgrzewka 10km\n11:00 – START 10 km\n12:45 – wspólna rozgrzewka 5km\n13:00 – START 5 km\n14:30 – dekoracje\n15.00 – zamknięcie wydarzenia
URL:https://herkules.org.pl/events/enea-polish-nordic-walking-cup-3-6-otwarte-gorskie-mistrzostwa-polski/
LOCATION:Polanica Zdrój – Park Szachowy\, Park Szachowy\, Polanica\, Dolnośląskie\, 57-320\, Poland
CATEGORIES:Nordic Walking
ATTACH;FMTTYPE=image/png:https://herkules.org.pl/wp-content/uploads/2023/11/Kalendarz_2024_MP_PZ.png
ORGANIZER;CN="Polskie Zrzeszenie Nordic Walking":MAILTO:http://pznw.org.pl/pznw/
END:VEVENT
BEGIN:VEVENT
DTSTART;TZID=Europe/Warsaw:20240629T110000
DTEND;TZID=Europe/Warsaw:20240629T170000
DTSTAMP:20260421T051945
CREATED:20240617T200134Z
LAST-MODIFIED:20240617T200707Z
UID:3346-1719658800-1719680400@herkules.org.pl
SUMMARY:DOLNOŚLĄSKI FESTIWAL NORDIC WALKING 2024 - Radwanice 1/8
DESCRIPTION:Marsze rekreacyjne odbywać się będą na dystansie ok. 2\,5\, 5 oraz 10 km. Mapka tras marszu zostanie opublikowana po dokonaniu uzgodnień z gminami uczestniczącymi w projekcie.
URL:https://herkules.org.pl/events/dolnoslaski-festiwal-nordic-walking-2024-radwanice-1-8/
LOCATION:Radwanice\, Radwanice\, Dolnośląskie\, 55-010\, Poland
CATEGORIES:Nordic Walking
END:VEVENT
BEGIN:VEVENT
DTSTART;TZID=Europe/Warsaw:20240629T100000
DTEND;TZID=Europe/Warsaw:20240629T130000
DTSTAMP:20260421T051945
CREATED:20240528T083120Z
LAST-MODIFIED:20240528T083120Z
UID:3332-1719655200-1719666000@herkules.org.pl
SUMMARY:XX Bieg 12 Mostów
DESCRIPTION:XX Bieg 12 Mostów odbędzie się 29 czerwca 2024r.\nDystans XX Biegu 12 Mostów wynosi ok 5 km\nTrasa biegu: ścieżki rowerowe\, drogi asfaltowe.\nTrasa biegu będzie zabezpieczona przez Policję\, Harcerzy\, wolontariuszy i zostanie oznaczona.\nMiejsce startu i mety: ul. Plac Sportowy przy Szkole Podstawowej nr 2.\nStart biegu – godz. 10.00. Zawodnicy winni stawić się na linii startu o godz. 9.55\nUczestnicy biegu mają obowiązek stosowania się do poleceń funkcjonariuszy Policji oraz osób zabezpieczających trasę biegu.
URL:https://herkules.org.pl/events/xx-bieg-12-mostow-2/
LOCATION:Stadion Miejski w Sławnie\, Plac Sportowy 1\, Sławno\, Zachodniopomorskie\, Poland
CATEGORIES:Bieganie
END:VEVENT
END:VCALENDAR