BEGIN:VCALENDAR
VERSION:2.0
PRODID:-//Herkules - Pomiar Czasu - ECPv6.15.20//NONSGML v1.0//EN
CALSCALE:GREGORIAN
METHOD:PUBLISH
X-ORIGINAL-URL:https://herkules.org.pl
X-WR-CALDESC:Wydarzenia dla Herkules - Pomiar Czasu
REFRESH-INTERVAL;VALUE=DURATION:PT1H
X-Robots-Tag:noindex
X-PUBLISHED-TTL:PT1H
BEGIN:VTIMEZONE
TZID:Europe/Warsaw
BEGIN:DAYLIGHT
TZOFFSETFROM:+0100
TZOFFSETTO:+0200
TZNAME:CEST
DTSTART:20250330T010000
END:DAYLIGHT
BEGIN:STANDARD
TZOFFSETFROM:+0200
TZOFFSETTO:+0100
TZNAME:CET
DTSTART:20251026T010000
END:STANDARD
BEGIN:DAYLIGHT
TZOFFSETFROM:+0100
TZOFFSETTO:+0200
TZNAME:CEST
DTSTART:20260329T010000
END:DAYLIGHT
BEGIN:STANDARD
TZOFFSETFROM:+0200
TZOFFSETTO:+0100
TZNAME:CET
DTSTART:20261025T010000
END:STANDARD
BEGIN:DAYLIGHT
TZOFFSETFROM:+0100
TZOFFSETTO:+0200
TZNAME:CEST
DTSTART:20270328T010000
END:DAYLIGHT
BEGIN:STANDARD
TZOFFSETFROM:+0200
TZOFFSETTO:+0100
TZNAME:CET
DTSTART:20271031T010000
END:STANDARD
END:VTIMEZONE
BEGIN:VEVENT
DTSTART;TZID=Europe/Warsaw:20260805T080000
DTEND;TZID=Europe/Warsaw:20260808T170000
DTSTAMP:20260421T093944
CREATED:20260415T143153Z
LAST-MODIFIED:20260415T143153Z
UID:4184-1785916800-1786208400@herkules.org.pl
SUMMARY:PLANET BALTIC SUP RACE ™
DESCRIPTION:
URL:https://herkules.org.pl/events/planet-baltic-sup-race/
LOCATION:Latarnia Morska w Kołobrzegu\, Morska 1\, Kołobrzeg\, Zachodniopomorskie\, 78-100\, Poland
CATEGORIES:SUP
ORGANIZER;CN="Akademia Sport%C3%B3w Wodnych mksailing.pl":MAILTO:mk@mksailing.pl
END:VEVENT
END:VCALENDAR