BEGIN:VCALENDAR
VERSION:2.0
PRODID:-//Herkules - Pomiar Czasu - ECPv6.15.20//NONSGML v1.0//EN
CALSCALE:GREGORIAN
METHOD:PUBLISH
X-WR-CALNAME:Herkules - Pomiar Czasu
X-ORIGINAL-URL:https://herkules.org.pl
X-WR-CALDESC:Wydarzenia dla Herkules - Pomiar Czasu
REFRESH-INTERVAL;VALUE=DURATION:PT1H
X-Robots-Tag:noindex
X-PUBLISHED-TTL:PT1H
BEGIN:VTIMEZONE
TZID:Europe/Warsaw
BEGIN:DAYLIGHT
TZOFFSETFROM:+0100
TZOFFSETTO:+0200
TZNAME:CEST
DTSTART:20240331T010000
END:DAYLIGHT
BEGIN:STANDARD
TZOFFSETFROM:+0200
TZOFFSETTO:+0100
TZNAME:CET
DTSTART:20241027T010000
END:STANDARD
BEGIN:DAYLIGHT
TZOFFSETFROM:+0100
TZOFFSETTO:+0200
TZNAME:CEST
DTSTART:20250330T010000
END:DAYLIGHT
BEGIN:STANDARD
TZOFFSETFROM:+0200
TZOFFSETTO:+0100
TZNAME:CET
DTSTART:20251026T010000
END:STANDARD
BEGIN:DAYLIGHT
TZOFFSETFROM:+0100
TZOFFSETTO:+0200
TZNAME:CEST
DTSTART:20260329T010000
END:DAYLIGHT
BEGIN:STANDARD
TZOFFSETFROM:+0200
TZOFFSETTO:+0100
TZNAME:CET
DTSTART:20261025T010000
END:STANDARD
END:VTIMEZONE
BEGIN:VEVENT
DTSTART;TZID=Europe/Warsaw:20251227T110000
DTEND;TZID=Europe/Warsaw:20251227T170000
DTSTAMP:20260421T102826
CREATED:20250109T104628Z
LAST-MODIFIED:20250109T104628Z
UID:3492-1766833200-1766854800@herkules.org.pl
SUMMARY:XVI Koszaliński Bieg Sylwestrowy
DESCRIPTION:
URL:https://herkules.org.pl/events/xvi-koszalinski-bieg-sylwestrowy/
LOCATION:Koszalin\, ul. Śniadeckich 4\, Hala Widowiskowo – Sportowa\, Koszalin\, ul. Śniadeckich 4\, Hala Widowiskowo - Sportowa\, Koszalin\, Zachodniopomorskie\, 75-453\, Poland
CATEGORIES:Bieganie,Nordic Walking
ORGANIZER;CN="Koszali%C5%84skie Towarzystwo Krzewienia Kultury Fizycznej":MAILTO:ktkkf@wp.pl
END:VEVENT
END:VCALENDAR