BEGIN:VCALENDAR
VERSION:2.0
PRODID:-//Herkules - Pomiar Czasu - ECPv6.15.20//NONSGML v1.0//EN
CALSCALE:GREGORIAN
METHOD:PUBLISH
X-WR-CALNAME:Herkules - Pomiar Czasu
X-ORIGINAL-URL:https://herkules.org.pl
X-WR-CALDESC:Wydarzenia dla Herkules - Pomiar Czasu
REFRESH-INTERVAL;VALUE=DURATION:PT1H
X-Robots-Tag:noindex
X-PUBLISHED-TTL:PT1H
BEGIN:VTIMEZONE
TZID:Europe/Warsaw
BEGIN:DAYLIGHT
TZOFFSETFROM:+0100
TZOFFSETTO:+0200
TZNAME:CEST
DTSTART:20240331T010000
END:DAYLIGHT
BEGIN:STANDARD
TZOFFSETFROM:+0200
TZOFFSETTO:+0100
TZNAME:CET
DTSTART:20241027T010000
END:STANDARD
BEGIN:DAYLIGHT
TZOFFSETFROM:+0100
TZOFFSETTO:+0200
TZNAME:CEST
DTSTART:20250330T010000
END:DAYLIGHT
BEGIN:STANDARD
TZOFFSETFROM:+0200
TZOFFSETTO:+0100
TZNAME:CET
DTSTART:20251026T010000
END:STANDARD
BEGIN:DAYLIGHT
TZOFFSETFROM:+0100
TZOFFSETTO:+0200
TZNAME:CEST
DTSTART:20260329T010000
END:DAYLIGHT
BEGIN:STANDARD
TZOFFSETFROM:+0200
TZOFFSETTO:+0100
TZNAME:CET
DTSTART:20261025T010000
END:STANDARD
END:VTIMEZONE
BEGIN:VEVENT
DTSTART;TZID=Europe/Warsaw:20250920T090000
DTEND;TZID=Europe/Warsaw:20250920T170000
DTSTAMP:20260421T152321
CREATED:20250430T124803Z
LAST-MODIFIED:20250430T124803Z
UID:3537-1758358800-1758387600@herkules.org.pl
SUMMARY:Róża Wiatrów Jeziora Mausz
DESCRIPTION:
URL:https://herkules.org.pl/events/roza-wiatrow-jeziora-mausz/
LOCATION:Zielony Punkt Kontrolny\, Rzepnica koło Bytowa\, Rzepnica\, Pomorskie\, 77-100\, Poland
CATEGORIES:Bieganie
END:VEVENT
BEGIN:VEVENT
DTSTART;TZID=Europe/Warsaw:20250920T110000
DTEND;TZID=Europe/Warsaw:20250920T140000
DTSTAMP:20260421T152321
CREATED:20250822T150218Z
LAST-MODIFIED:20250822T150218Z
UID:3642-1758366000-1758376800@herkules.org.pl
SUMMARY:Bieg i marsz Nordic Walking z okazji 120-lecia ZNP
DESCRIPTION:
URL:https://herkules.org.pl/events/bieg-i-marsz-nordic-walking-z-okazji-120-lecia-znp/
LOCATION:Sławno\, Plac Sportowy\, Plac Sportowy 1\, Sławno\, Zachodniopomorskie\, 76-100\, Poland
CATEGORIES:Bieganie
END:VEVENT
BEGIN:VEVENT
DTSTART;TZID=Europe/Warsaw:20250920T110000
DTEND;TZID=Europe/Warsaw:20250920T170000
DTSTAMP:20260421T152321
CREATED:20250917T151539Z
LAST-MODIFIED:20250917T151539Z
UID:3652-1758366000-1758387600@herkules.org.pl
SUMMARY:Bieg Charytatywny
DESCRIPTION:
URL:https://herkules.org.pl/events/bieg-charytatywny-2/
LOCATION:Urząd Miasta i Gminy Krajenka\, Szkolna 17\, Krajenka\, Wielkopolskie\, 77-430\, Poland
CATEGORIES:Bieganie
ORGANIZER;CN="Urz%C4%85d Miasta i Gminy Krajenka":MAILTO:aktywnakrajenka@gmail.com
END:VEVENT
END:VCALENDAR